Workbook

Sheet Beschreibung

Sheet Detailübersicht MC
B13: MC | C13: EQF | D13: Bezeichnung | E13: Zeit [h] | H13: Zeitformat | K13: Medium
E14: Minimum | F14: Maximum | G14: Durchschnitt | H14: Bevorzugt | I14: Optional | J14: Begründung | K14: Bevorzugt | L14: Optional | M14: Abschluss
B15: 1 | C15: 3/4 | D15: Wirtschaftsrecht, Normen und Vorschriften im Holzbau | E15: =SUM(E16:E26) -> 90 | F15: =SUM(F16:F26) -> 150 | G15: =(E15+F15)/2 -> 120 | S15: Zeitformat
B16: 1 | C16: 3/4 | D16: Einführung | E16: 6 | F16: 8 | G16: =(E16+F16)/2 -> 7 | H16: Ein Block | I16: Variabel | J16: 1–2 Stunden Einführung (Bildungssystem, Aufgabenstellungen usw.), 1–2 Stunden allgemeine betriebswirtschaftliche Grundlagen, anschließend Selbstbewertung der Lernenden zu ihrem Unternehmen mit anschließender Überprüfung. (Kann auch als Hausaufgabe bearbeitet werden, um dieses Thema abzuschließen.) [2–4 Stunden Einführung und Theorie + 2–4 Stunden Aufgabenstellung] | K16: Klassenzimmer | L16: Recherche | M16: Hausaufgabe
B17: 1 | C17: 3/4 | D17: Unternehmensorganisation & betriebswirtschaftliche Grundlagen | E17: 4 | F17: 8 | G17: =(E17+F17)/2 -> 6 | H17: Ein Block | I17: Variabel | J17: 2–4 Stunden allgemeine Grundlagen zur Unternehmensorganisation, anschließend Selbsteinschätzung der Auszubildenden zu ihrem Unternehmen mit anschließender Überprüfung. (Kann auch als Hausaufgabe bearbeitet werden, um dieses Thema abzuschließen.) [2–4 Stunden Theorie + 2–4 Stunden Aufgabe] | K17: Online | L17: Recherche | M17: Hausaufgabe | S17: Ein Block
B18: 1 | C18: 3/4 | D18: Rechte und Pflichten von Arbeitgebern und Arbeitnehmern | E18: 4 | F18: 6 | G18: =(E18+F18)/2 -> 5 | H18: Ein Block | I18: Variabel | J18: Das Ganze lässt sich in einer Sitzung absolvieren, da der Zeitaufwand nicht allzu hoch und der Lernstoff nicht allzu komplex ist. Es kann auch als Selbststudium mit vorbereiteten Lehrvideos durchgeführt werden. [4 Stunden Theorie + 1 Stunde Recherche/Aufgabe] | K18: Online | L18: Recherche | M18: Prüfung online | S18: 8h Blöcke
B19: 1 | C19: 3/4 | D19: Vorschriften und Gesetze zum Holzbau | E19: 6 | F19: 8 | G19: =(E19+F19)/2 -> 7 | H19: 4h Blöcke | I19: Variabel | J19: Aufgrund der Komplexität empfiehlt es sich, das Modul auf mindestens zwei Tage aufzuteilen. Es kann auch als Selbststudium mit vorbereiteten Lehrvideos durchgeführt werden. [2 x 3–4 Stunden Theorie] | K19: Online | M19: Prüfung online | S19: 4h Blöcke
B20: 1 | C20: 3/4 | D20: Spezifische Vorschriften für den Holzbau (Brandschutz, Wärmeschutz, Schallschutz, Feuchtigkeitsschutz) | E20: 8 | F20: 12 | G20: =(E20+F20)/2 -> 10 | H20: 4h Blöcke | I20: Variabel | J20: Aufgrund der Komplexität empfiehlt es sich, das Modul auf mindestens 2–3 Tage aufzuteilen. Es kann auch als Selbststudium mit vorbereiteten Lehrvideos durchgeführt werden. [2–3 x 4 Stunden Theorie] | K20: Online | M20: Prüfung online | S20: 2h Blöcke
B21: 1 | C21: 3/4 | D21: Sicherheitsvorschriften auf Baustellen | E21: 6 | F21: 8 | G21: =(E21+F21)/2 -> 7 | H21: Ein Block | I21: Variabel | J21: Das Ganze lässt sich in einer Sitzung absolvieren, da der Inhalt nicht allzu theoretisch ist. (Es besteht die Möglichkeit, dieses Thema in zwei Teile aufzuteilen.) Kann auch als Selbststudium mit vorbereiteten Lehrvideos durchgeführt werden. [1 x 6–8 Std. oder 2 x 4 Std.] | K21: Online | M21: Prüfung online | S21: Variabel
B22: 1 | C22: 3/4 | D22: Arbeits- und Prozessplanung | E22: 10 | F22: 14 | G22: =(E22+F22)/2 -> 12 | H22: 4h Blöcke | I22: Variabel | J22: Dieses Modul umfasst mindestens einen ausführlichen theoretischen Teil, der in zwei bis drei 4-stündigen Einheiten abgehalten werden kann. Darüber hinaus kann eine Einheit dafür genutzt werden, dass die Lernenden Teile der Prozessplanung selbstständig als Aufgabe bearbeiten. Der praktische Teil kann ebenfalls als Hausaufgabe gestellt werden. [2 x 4 Std. Theorie + 4 Std. Aufgabe] | K22: Hybrid | M22: Hausaufgabe
B23: 1 | C23: 3/4 | D23: Logistik | E23: 4 | F23: 6 | G23: =(E23+F23)/2 -> 5 | H23: Ein Block | I23: Variabel | J23: Kann entweder als Präsenzveranstaltung absolviert oder online im Selbststudium anhand von vorbereiteten Unterlagen mit einem abschließenden Quiz/einer abschließenden Prüfung absolviert werden. [1 x 4–6 Stunden Theorie] | K23: Online | M23: Prüfung online
B24: 1 | C24: 3/4 | D24: Wirtschaftliches Denken und Handeln | E24: 20 | F24: 40 | G24: =(E24+F24)/2 -> 30 | H24: 8h Blöcke | I24: Variabel | J24: Aufgrund der Vielfalt der in diesem Modul behandelten Themen kann es trotz seiner Komplexität in 8-Stunden-Blöcken absolviert werden. Es wird empfohlen, zumindest einen Teil des Moduls im Präsenzunterricht zu absolvieren (aufgrund der Komplexität). Die einfacheren Teile können mithilfe vorbereiteter Unterlagen online absolviert werden. [4 x 8 Std. Theorie oder 8 x 4 Std.] | K24: Hybrid | L24: Online | M24: Prüfung online | S24: Medium
B25: 1 | C25: 3/4 | D25: Dokumente und Verträge | E25: 10 | F25: 20 | G25: =(E25+F25)/2 -> 15 | H25: 4h Blöcke | J25: Aufgrund der Komplexität des Themas sollte die Veranstaltung in mehreren, nicht allzu langen Blöcken (max. 4 Stunden) abgehalten werden. Es empfiehlt sich, zumindest Teile davon als Präsenzveranstaltung durchzuführen, um Fragen zu ermöglichen und die Beteiligung besser steuern zu können. [4 x 4 Stunden Theorie] | K25: Hybrid | M25: Hausaufgabe
B26: 1 | C26: 3/4 | D26: Unternehmerisches Denken und Handeln | E26: 12 | F26: 20 | G26: =(E26+F26)/2 -> 16 | H26: 4h Blöcke | J26: Aufgrund der Komplexität des Themas sollte die Veranstaltung in mehreren, nicht allzu langen Blöcken (max. 4 Stunden) abgehalten werden. Es empfiehlt sich, zumindest Teile davon als Präsenzveranstaltung durchzuführen, um Fragen zu ermöglichen und die Beteiligung besser steuern zu können. [4 x 4 Stunden Theorie] | K26: Hybrid | M26: Hausaufgabe | S26: Klassenzimmer
S27: Werkstättte
B28: 2 | C28: 3/4 | D28: Holztechnologie, Verarbeitung und Materialkunde | E28: =SUM(E29:E38) -> 88 | F28: =SUM(F29:F38) -> 126 | G28: =(E28+F28)/2 -> 107 | S28: Hybrid
B29: 2 | C29: 3/4 | D29: Holzarten | E29: 12 | F29: 16 | G29: =(E29+F29)/2 -> 14 | H29: 4h Blöcke | J29: Dieses Modul kann in Blöcken von jeweils 4 Stunden abgehalten werden, da es einerseits recht komplex und wichtig, andererseits aber sehr praxisorientiert ist, weshalb zumindest der größte Teil davon vor Ort stattfinden sollte. [3–4 x 4 Stunden Theorie] | K29: Klassenzimmer | L29: Hybrid | M29: Prüfung vor Ort | S29: Online
B30: 2 | C30: 3/4 | D30: Holzwerkstoffe und sonstige Baustoffe | E30: 16 | F30: 20 | G30: =(E30+F30)/2 -> 18 | H30: 8h Blöcke | I30: Variabel | J30: Dieses Modul kann in Blöcken von bis zu 8 Stunden abgehalten werden, da es sehr praxisorientiert ist; dies ist auch der Grund, warum zumindest der Großteil davon vor Ort stattfinden sollte. [2 x 8 Std. oder 4–5 x 4 Std. Theorie] | K30: Hybrid | L30: Online | M30: Prüfung online | S30: Recherche
B31: 2 | C31: 3/4 | D31: Schutzschichten und Dämmung | E31: 8 | F31: 12 | G31: =(E31+F31)/2 -> 10 | H31: 8h Blöcke | I31: Variabel | J31: Dieses Modul kann in Blöcken von bis zu 8 Stunden abgehalten werden, da es sehr praxisorientiert ist; dies ist auch der Grund, warum zumindest der Großteil davon vor Ort stattfinden sollte. [1 x 8 Std. oder 2–3 x 4 Std. Theorie] | K31: Hybrid | L31: Online | M31: Prüfung online
B32: 2 | C32: 3/4 | D32: Holzschädlinge und Schutzmaßnahmen | E32: 8 | F32: 12 | G32: =(E32+F32)/2 -> 10 | H32: 8h Blöcke | I32: Variabel | J32: Dieses Modul kann in Blöcken von bis zu 8 Stunden abgehalten werden, da es sehr praxisorientiert ist; dies ist auch der Grund, warum zumindest der Großteil davon vor Ort stattfinden sollte. [1 x 8 Std. oder 2–3 x 4 Std. Theorie] | K32: Hybrid | M32: Prüfung online
B33: 2 | C33: 3/4 | D33: Oberflächenbeschichtung und Nachbearbeitung – Theorie | E33: 8 | F33: 12 | G33: =(E33+F33)/2 -> 10 | H33: 8h Blöcke | I33: Variabel | J33: Dieses Modul kann in Blöcken von bis zu 8 Stunden abgehalten werden, da es sehr praxisorientiert ist; dies ist auch der Grund, warum zumindest der Großteil davon vor Ort stattfinden sollte. [1 x 8 Std. oder 2–3 x 4 Std. Theorie] | K33: Hybrid | M33: Prüfung online | S33: Abschluss
B34: 2 | C34: 3/4 | D34: Holztrocknung | E34: 8 | F34: 12 | G34: =(E34+F34)/2 -> 10 | H34: 4h Blöcke | J34: Es sollten mindestens zwei Termine angesetzt werden, damit der Trocknungsplan erstellt werden kann und die Maschine beim ersten Termin beladen und beim zweiten Termin entladen sowie die Qualität geprüft werden kann. [1–2 x 4 Stunden Theorie und Beladen + 1 x 4 Stunden Entladen und Qualitätsprüfung] | K34: Klassenzimmer | L34: Werkstätte | M34: Prüfung vor Ort
B35: 2 | C35: 3/4 | D35: Lagerung von Holz und anderen Baumaterialien | E35: 6 | F35: 8 | G35: =(E35+F35)/2 -> 7 | H35: 8h Blöcke | J35: Dieses Modul kann in Blöcken von bis zu 8 Stunden abgehalten werden, da es sehr praxisorientiert ist; daher sollten bzw. könnten Teile davon in der Werkstätte durchgeführt werden. [1 x 8 Std. oder 2 x 4 Std. Theorie] | K35: Online | L35: Werkstätte | M35: Prüfung online | S35: Präsenz
B36: 2 | C36: 3/4 | D36: Verbindungsmittel für Holzbau | E36: 8 | F36: 12 | G36: =(E36+F36)/2 -> 10 | H36: 4h Blöcke | J36: Aufgrund seiner Komplexität sollte das Modul in Blöcke von maximal 4 Stunden unterteilt werden. [2–3 × 4 Stunden Theorie] | K36: Hybrid | L36: Online | M36: Prüfung online | S36: Prüfung vor Ort
B37: 2 | C37: 3/4 | D37: Holzbearbeitungswerkzeuge und -maschinen | E37: 6 | F37: 10 | G37: =(E37+F37)/2 -> 8 | H37: Ein Block | J37: Dieses Modul ist sehr praxisorientiert und kann daher in einem Durchgang absolviert werden. Es ist sinnvoll, einen Großteil davon in der Werkstätte abzuhalten, damit die Auszubildenden ein besseres Verständnis für die Maschinen entwickeln. [1 x 8 Std. oder 2 x 4 Std. Theorie] | K37: Klassenzimmer | L37: Werkstätte | M37: Präsenz | S37: Prüfung online
B38: 2 | C38: 3/4 | D38: CNC-Maschinen | E38: 8 | F38: 12 | G38: =(E38+F38)/2 -> 10 | H38: 4h Blöcke | J38: Der Inhalt dieses Moduls ist sehr technisch und komplex, weshalb die Unterrichtseinheiten maximal 4 Stunden dauern sollten. [2–3 x 4 Stunden Theorie] | K38: Hybrid | L38: Werkstätte | M38: Prüfung online | S38: Hausaufgabe
S39: Praxisaufgabe
B40: 3 | C40: 3/4 | D40: Holzbau-Theorie | E40: =SUM(E41:E55) -> 84 | F40: =SUM(F41:F55) -> 148 | G40: =(E40+F40)/2 -> 116
B41: 3 | C41: 3/4 | D41: Wandkonstruktionen | E41: 6 | F41: 10 | G41: =(E41+F41)/2 -> 8 | H41: 4h Blöcke | J41: Aufgrund der Bedeutung des Themas und einer gewissen Komplexität sollten die Einheiten maximal 4 Stunden dauern. Sie können vor Ort oder online stattfinden, wobei der Präsenzunterricht vorzuziehen ist, um die Beteiligung der Lernenden zu fördern. [2 x 4 Stunden Theorie] | K41: Klassenzimmer | L41: Online | M41: Prüfung online
B42: 3 | C42: 3/4 | D42: Deckenkonstruktionen | E42: 6 | F42: 10 | G42: =(E42+F42)/2 -> 8 | H42: 4h Blöcke | J42: Aufgrund der Bedeutung des Themas und einer gewissen Komplexität sollten die Einheiten maximal 4 Stunden dauern. Sie können vor Ort oder online stattfinden, wobei der Präsenzunterricht vorzuziehen ist, um die Beteiligung der Lernenden zu fördern. [2 x 4 Stunden Theorie] | K42: Klassenzimmer | L42: Online | M42: Prüfung online
B43: 3 | C43: 3/4 | D43: Dachkonstruktionen | E43: 6 | F43: 10 | G43: =(E43+F43)/2 -> 8 | H43: 4h Blöcke | J43: Aufgrund der Bedeutung des Themas und einer gewissen Komplexität sollten die Einheiten maximal 4 Stunden dauern. Sie können vor Ort oder online stattfinden, wobei der Präsenzunterricht vorzuziehen ist, um die Beteiligung der Lernenden zu fördern. [2 x 4 Stunden Theorie] | K43: Klassenzimmer | L43: Online | M43: Prüfung online
B44: 3 | C44: 3/4 | D44: Bodenkonstruktionen | E44: 4 | F44: 8 | G44: =(E44+F44)/2 -> 6 | H44: Ein Block | J44: Dieses Thema kann in einer einzigen Einheit behandelt werden; alternativ wären auch zwei Einheiten à 4 Stunden möglich, je nach Gesamtstundenzahl. Die Durchführung ist sowohl online als auch vor Ort möglich. [1 x 4–8 Std. oder 2 x 4 Std. Theorie] | K44: Online | M44: Prüfung online
B45: 3 | C45: 3/4 | D45: Treppenkonstuktionen | E45: 4 | F45: 8 | G45: =(E45+F45)/2 -> 6 | H45: Ein Block | J45: Dieses Thema kann in einer einzigen Einheit behandelt werden; alternativ wären auch zwei Einheiten à 4 Stunden möglich, je nach Gesamtstundenzahl. Die Durchführung ist sowohl online als auch vor Ort möglich. [1 x 4–8 Std. oder 2 x 4 Std. Theorie] | K45: Online | M45: Prüfung online
B46: 3 | C46: 3/4 | D46: Tür und Tor-Konstruktionen | E46: 4 | F46: 8 | G46: =(E46+F46)/2 -> 6 | H46: Ein Block | J46: Dieses Thema kann in einer einzigen Einheit behandelt werden; alternativ wären auch zwei Einheiten à 4 Stunden möglich, je nach Gesamtstundenzahl. Die Durchführung ist sowohl online als auch vor Ort möglich. [1 x 4–8 Std. oder 2 x 4 Std. Theorie] | K46: Online | M46: Prüfung online
B47: 3 | C47: 3/4 | D47: Holzbau – Verkleidungen und Einbauteile | E47: 4 | F47: 8 | G47: =(E47+F47)/2 -> 6 | H47: Ein Block | J47: Dieses Thema kann in einer einzigen Einheit behandelt werden; alternativ wären auch zwei Einheiten à 4 Stunden möglich, je nach Gesamtstundenzahl. Die Durchführung ist sowohl online als auch vor Ort möglich. [1 x 4–8 Std. oder 2 x 4 Std. Theorie] | K47: Online | M47: Prüfung online
B48: 3 | C48: 3/4 | D48: Terrassen und Balkone | E48: 4 | F48: 8 | G48: =(E48+F48)/2 -> 6 | H48: Ein Block | J48: Dieses Thema kann in einer einzigen Einheit behandelt werden; alternativ wären auch zwei Einheiten à 4 Stunden möglich, je nach Gesamtstundenzahl. Die Durchführung ist sowohl online als auch vor Ort möglich. [1 x 4–8 Std. oder 2 x 4 Std. Theorie] | K48: Online | M48: Prüfung online
B49: 3 | C49: 3/4 | D49: Gebäudetechnik in Holzbauwerken | E49: 2 | F49: 4 | G49: =(E49+F49)/2 -> 3 | H49: Ein Block | J49: Aufgrund des geringen Gesamtstundenaufwands kann dieses Thema in einer einzigen Sitzung abgehalten werden. Es kann sowohl online als auch vor Ort stattfinden. [1 x 4 Stunden Theorie] | K49: Online | M49: Prüfung online
B50: 3 | C50: 3/4 | D50: Brückenkonstruktion | E50: 4 | F50: 6 | G50: =(E50+F50)/2 -> 5 | H50: Ein Block | J50: Aufgrund des geringen Gesamtstundenaufwands kann dieses Thema in einer einzigen Sitzung abgehalten werden. Es kann sowohl online als auch vor Ort stattfinden. [1 x 4 Stunden Theorie] | K50: Online | M50: Prüfung online
B51: 3 | C51: 3/4 | D51: Verbindungselemente | E51: 6 | F51: 10 | G51: =(E51+F51)/2 -> 8 | H51: 4h Blöcke | J51: Aufgrund der Bedeutung des Themas und einer gewissen Komplexität sollten die Einheiten maximal 4 Stunden dauern. Sie können vor Ort oder online stattfinden, wobei der Präsenzunterricht vorzuziehen ist, um die Beteiligung der Lernenden zu fördern. [2 x 4 Stunden Theorie] | K51: Klassenzimmer | L51: Online | M51: Prüfung online
B52: 3 | C52: 3/4 | D52: Vorfertigung und Schichtaufbauten | E52: 12 | F52: 20 | G52: =(E52+F52)/2 -> 16 | H52: 4h Blöcke | I52: 8h Blöcke | J52: Der Kurs kann in Einheiten von 4 oder 8 Stunden abgehalten werden; aufgrund der Bedeutung des Themas wären 4 Stunden vorzuziehen. [3–5 x 4 Stunden oder 2 x 8 Stunden Theorie] | K52: Online | M52: Prüfung online
B53: 3 | C53: 3/4 | D53: Bauphysik-Prinzipien | E53: 6 | F53: 10 | G53: =(E53+F53)/2 -> 8 | H53: 4h Blöcke | J53: Aufgrund der Komplexität sollten die Einheiten nicht länger als 4 Stunden dauern. [2 x 4 Stunden Theorie] | K53: Online | M53: Prüfung online
B54: 3 | C54: 3/4 | D54: Materialauswahl | E54: 4 | F54: 8 | G54: =(E54+F54)/2 -> 6 | H54: Ein Block | J54: Da dieses Modul nur wenig theoretischen Stoff vermittelt und es vor allem darum geht, dass die Lernenden Entscheidungen treffen, kann es in einer einzigen Sitzung abgehalten werden. [1 x 4–8 Std. oder 2 x 4 Std.] | K54: Klassenzimmer | L54: Online | M54: Prüfung online
B55: 3 | C55: 3/4 | D55: Überblick CAD/CAM/CNC | E55: 12 | F55: 20 | G55: =(E55+F55)/2 -> 16 | H55: 4h Blöcke | I55: 8h Blöcke | J55: Dieses Modul umfasst mindestens einen theoretischen Teil (und gegebenenfalls einen praktischen Teil). Der theoretische Teil sollte nicht länger als jeweils 4 Stunden dauern, während der praktische Teil tendenziell länger sein sollte, um größere Fortschritte zu erzielen. [2 x 4 Stunden Theorie + 2 x 4 Stunden / 1 x 8 Stunden Projekt oder 3–5 x 4 Stunden Theorie] | K55: Hybrid | L55: Werkstätte | M55: Praxisaufgabe
B57: 4 | C57: 3/4 | D57: Konstruktionsübungen | E57: =SUM(E58:E64) -> 81 | F57: =SUM(F58:F64) -> 149 | G57: =(E57+F57)/2 -> 115
B58: 4 | C58: 3/4 | D58: Planung und Fertigung von Holzkonstruktionen – Allgemein | E58: 8 | F58: 12 | G58: =(E58+F58)/2 -> 10 | H58: 4h Blöcke | I58: 8h Blöcke | J58: Aufgrund ihrer Bedeutung empfiehlt es sich, die Unterrichtseinheiten auf 4 Stunden zu begrenzen. Da es sich um praktische Arbeit handelt, kann die Dauer auch auf 8 Stunden ausgedehnt werden. [2–3 x 4 Std. oder 1 x 8 Std. Planung] | K58: Klassenzimmer | M58: Präsenz
B59: 4 | C59: 3/4 | D59: Planung und Fertigung von Holzkonstruktionen – Wände | E59: 15 | F59: 25 | G59: =(E59+F59)/2 -> 20 | H59: 4h Blöcke | I59: 8h Blöcke | J59: Aufgrund ihrer Bedeutung empfiehlt es sich, die Unterrichtseinheiten auf 4 Stunden zu begrenzen. Da es sich um praktische Arbeit handelt, kann die Dauer auch auf 8 Stunden ausgedehnt werden. [4–6 x 4 Std. oder 2–3 x 8 Std. Planung] | K59: Klassenzimmer | M59: Hausaufgabe
B60: 4 | C60: 3/4 | D60: Planung und Herstellung von Holzkonstruktionen – Decken | E60: 10 | F60: 20 | G60: =(E60+F60)/2 -> 15 | H60: 4h Blöcke | I60: 8h Blöcke | J60: Aufgrund ihrer Bedeutung empfiehlt es sich, die Unterrichtseinheiten auf 4 Stunden zu begrenzen. Da es sich um praktische Arbeit handelt, kann die Dauer auch auf 8 Stunden ausgedehnt werden. [3–5 x 4 Std. oder 2 x 8 Std. Planung] | K60: Klassenzimmer | M60: Hausaufgabe
B61: 4 | C61: 3/4 | D61: Planung und Fertigung von Holzkonstruktionen – Dächer | E61: 10 | F61: 20 | G61: =(E61+F61)/2 -> 15 | H61: 4h Blöcke | I61: 8h Blöcke | J61: Aufgrund ihrer Bedeutung empfiehlt es sich, die Unterrichtseinheiten auf 4 Stunden zu begrenzen. Da es sich um praktische Arbeit handelt, kann die Dauer auch auf 8 Stunden ausgedehnt werden. [3–5 x 4 Std. oder 2 x 8 Std. Planung] | K61: Klassenzimmer | M61: Hausaufgabe
B62: 4 | C62: 3/4 | D62: Planung und Fertigung von Holzkonstruktionen – Sonstige Konstruktionen | E62: 8 | F62: 12 | G62: =(E62+F62)/2 -> 10 | H62: 4h Blöcke | I62: 8h Blöcke | J62: Aufgrund ihrer Bedeutung empfiehlt es sich, die Unterrichtseinheiten auf 4 Stunden zu begrenzen. Da es sich um praktische Arbeit handelt, kann die Dauer auch auf 8 Stunden ausgedehnt werden. [2–3 x 4 Std. oder 1 x 8 Std. Planung] | K62: Klassenzimmer | M62: Hausaufgabe
B63: 4 | C63: 3/4 | D63: Planung und Fertigung von Holzkonstruktionen – Verbindungen | E63: 10 | F63: 20 | G63: =(E63+F63)/2 -> 15 | H63: 4h Blöcke | I63: 8h Blöcke | J63: Aufgrund ihrer Bedeutung empfiehlt es sich, die Unterrichtseinheiten auf 4 Stunden zu begrenzen. Da es sich um praktische Arbeit handelt, kann die Dauer auch auf 8 Stunden ausgedehnt werden. [3–5 x 4 Std. oder 2 x 8 Std. Planung] | K63: Klassenzimmer | M63: Hausaufgabe
B64: 4 | C64: 3/4 | D64: Planung und Fertigung von Holzkonstruktionen – Projekt | E64: 20 | F64: 40 | G64: =(E64+F64)/2 -> 30 | H64: 8h Blöcke | I64: Variabel | J64: Da es sich hierbei um ein Projekt handelt, bei dem die Lernenden selbstständig ein Bauvorhaben planen, können die Unterrichtseinheiten in 8-Stunden-Blöcken abgehalten werden, oder die Lernenden können die Zeit alternativ selbst einteilen. [3–5 × 8 Std. oder 5–10 × 4 Std. Projekt] | K64: Hybrid | M64: Praxisaufgabe
B66: 5 | C66: 3/4 | D66: Holzbau-Praxis | E66: =SUM(E67:E84) -> 93 | F66: =SUM(F67:F84) -> 159 | G66: =(E66+F66)/2 -> 126
B67: 5 | C67: 3/4 | D67: Arbeitsplatzgestaltung | E67: 2 | F67: 4 | G67: =(E67+F67)/2 -> 3 | H67: Ein Block | J67: Da der Arbeitsaufwand gering ist, kann das Modul in einer Einheit abgehalten werden. [1 x 2–4 Std.] | K67: Werkstätte | M67: Präsenz
B68: 5 | C68: 3/4 | D68: Werkzeuge und Maschinen | E68: 12 | F68: 20 | G68: =(E68+F68)/2 -> 16 | H68: 8h Blöcke | J68: Das Modul kann in 8-Stunden-Blöcken absolviert werden, da es wenig Theorie und mehr praktische Arbeit umfasst. [2 x 8 Stunden Arbeit mit Werkzeugen] | K68: Werkstätte | M68: Präsenz
B69: 5 | C69: 3/4 | D69: Vermessung und Anreißen | E69: 4 | F69: 8 | G69: =(E69+F69)/2 -> 6 | H69: Ein Block | J69: Das Modul kann in einem Durchgang absolviert werden, da es praktische Übungen und nur wenig theoretischen Stoff umfasst. [1 x 4 Std. oder 1 x 8 Std. praktische Übungen] | K69: Werkstätte | M69: Präsenz
B70: 5 | C70: 3/4 | D70: Konstruktion und Zusammenbau – Wände | E70: 8 | F70: 12 | G70: =(E70+F70)/2 -> 10 | H70: 8h Blöcke | J70: Das Modul kann in 8-Stunden-Blöcken absolviert werden, da es praktische Arbeiten mit geringem theoretischem Anteil umfasst; alternativ können auch 4-Stunden-Einheiten gewählt werden. [1 x 8 Std. oder 2–3 x 4 Std. oder 1 x 8 Std. + 1 x 4 Std. praktische Arbeit] | K70: Werkstätte | M70: Präsenz
B71: 5 | C71: 3/4 | D71: Konstruktion und Zusammenbau – Decken | E71: 8 | F71: 12 | G71: =(E71+F71)/2 -> 10 | H71: 8h Blöcke | J71: Das Modul kann in 8-Stunden-Blöcken absolviert werden, da es praktische Arbeiten mit geringem theoretischem Anteil umfasst; alternativ können auch 4-Stunden-Einheiten gewählt werden. [1 x 8 Std. oder 2–3 x 4 Std. oder 1 x 8 Std. + 1 x 4 Std. praktische Arbeit] | K71: Werkstätte | M71: Präsenz
B72: 5 | C72: 3/4 | D72: Konstruktion und Zusammenbau – Dächer | E72: 8 | F72: 12 | G72: =(E72+F72)/2 -> 10 | H72: 8h Blöcke | J72: Das Modul kann in 8-Stunden-Blöcken absolviert werden, da es praktische Arbeiten mit geringem theoretischem Anteil umfasst; alternativ können auch 4-Stunden-Einheiten gewählt werden. [1 x 8 Std. oder 2–3 x 4 Std. oder 1 x 8 Std. + 1 x 4 Std. praktische Arbeit] | K72: Werkstätte | M72: Präsenz
B73: 5 | C73: 3/4 | D73: Konstruktion und Zusammenbau – Dämmung | E73: 4 | F73: 8 | G73: =(E73+F73)/2 -> 6 | H73: Ein Block | J73: Das Modul kann in einem Durchgang absolviert werden, da es praktische Übungen und nur wenig theoretischen Stoff umfasst. [1 x 4 Std. oder 1 x 8 Std. praktische Übungen] | K73: Werkstätte | M73: Präsenz
B74: 5 | C74: 3/4 | D74: Konstruktion und Zusammenbau – Böden | E74: 6 | F74: 10 | G74: =(E74+F74)/2 -> 8 | H74: Ein Block | J74: Das Modul kann in einem Durchgang absolviert werden, da es praktische Übungen und nur wenig theoretischen Stoff umfasst. [1 x 8 Stunden oder 2 x 4 Stunden praktische Übungen] | K74: Werkstätte | M74: Präsenz
B75: 5 | C75: 3/4 | D75: Konstruktion und Zusammenbau – Türen und Tore | E75: 4 | F75: 8 | G75: =(E75+F75)/2 -> 6 | H75: Ein Block | J75: Das Modul kann in einem Durchgang absolviert werden, da es praktische Übungen und nur wenig theoretischen Stoff umfasst. [1 x 4 Std. oder 1 x 8 Std. praktische Übungen] | K75: Werkstätte | M75: Präsenz
B76: 5 | C76: 3/4 | D76: Konstruktion und Zusammenbau – Treppen | E76: 4 | F76: 8 | G76: =(E76+F76)/2 -> 6 | H76: Ein Block | J76: Das Modul kann in einem Durchgang absolviert werden, da es praktische Übungen und nur wenig theoretischen Stoff umfasst. [1 x 4 Std. oder 1 x 8 Std. praktische Übungen] | K76: Werkstätte | M76: Präsenz
B77: 5 | C77: 3/4 | D77: Konstruktion und Zusammenbau – Verkleidungen | E77: 4 | F77: 8 | G77: =(E77+F77)/2 -> 6 | H77: Ein Block | J77: Das Modul kann in einem Durchgang absolviert werden, da es praktische Übungen und nur wenig theoretischen Stoff umfasst. [1 x 4 Std. oder 1 x 8 Std. praktische Übungen] | K77: Werkstätte | M77: Präsenz
B78: 5 | C78: 3/4 | D78: Konstruktion und Zusammenbau – Brücken | E78: 4 | F78: 8 | G78: =(E78+F78)/2 -> 6 | H78: Ein Block | J78: Das Modul kann in einem Durchgang absolviert werden, da es praktische Übungen und nur wenig theoretischen Stoff umfasst. [1 x 4 Std. oder 1 x 8 Std. praktische Übungen] | K78: Werkstätte | M78: Präsenz
... B84: 5 | C84: 3/4 | D84: Wartungsarbeiten | E84: 1 | F84: 3 | G84: =(E84+F84)/2 -> 2 | H84: Ein Block | J84: Aufgrund des geringen Arbeitsaufwands kann das Modul in einer Einheit abgehalten werden. [1 x 1–3 Stunden praktische Arbeit] | K84: Werkstätte | M84: Präsenz
B86: 6 | C86: 3/4 | D86: Angewandte Mathematik | E86: =SUM(E87:E92) -> 96 | F86: =SUM(F87:F92) -> 152 | G86: =(E86+F86)/2 -> 124
B87: 6 | C87: 3/4 | D87: Materialbedarf | E87: 8 | F87: 12 | G87: =(E87+F87)/2 -> 10 | H87: 4h Blöcke | J87: Aufgrund der Komplexität sollten die Einheiten nicht länger als 4 Stunden dauern. [2–3 × 4 Std.] | K87: Klassenzimmer | L87: Online | M87: Hausaufgabe
B88: 6 | C88: 3/4 | D88: Mathematik und Geometrie für die Holzverarbeitung | E88: 20 | F88: 30 | G88: =(E88+F88)/2 -> 25 | H88: 4h Blöcke | J88: Aufgrund der Komplexität sollten die Einheiten nicht länger als 4 Stunden dauern. [5–7 × 4 Std.] | K88: Klassenzimmer | L88: Online | M88: Hausaufgabe
B89: 6 | C89: 3/4 | D89: Statik | E89: 20 | F89: 40 | G89: =(E89+F89)/2 -> 30 | H89: 4h Blöcke | J89: Aufgrund der Komplexität sollten die Einheiten nicht länger als 4 Stunden dauern. [5-10 × 4 Std.] | K89: Klassenzimmer | L89: Online | M89: Hausaufgabe
B90: 6 | C90: 3/4 | D90: Schichtaufbauten | E90: 16 | F90: 20 | G90: =(E90+F90)/2 -> 18 | H90: 4h Blöcke | J90: Aufgrund der Komplexität sollten die Einheiten nicht länger als 4 Stunden dauern. [4-5 × 4 Std.] | K90: Klassenzimmer | L90: Online | M90: Hausaufgabe
B91: 6 | C91: 3/4 | D91: Angebotserstellung und Beschaffung | E91: 12 | F91: 20 | G91: =(E91+F91)/2 -> 16 | H91: 4h Blöcke | J91: Aufgrund der Komplexität sollten die Einheiten nicht länger als 4 Stunden dauern. [3-5 × 4 Std.] | K91: Klassenzimmer | L91: Online | M91: Hausaufgabe
B92: 6 | C92: 3/4 | D92: Praxisorientiertes Projekt | E92: 20 | F92: 30 | G92: =(E92+F92)/2 -> 25 | H92: 8h Blöcke | J92: Da die Schüler die Berechnungen selbstständig durchführen, kann dieser Teil in 8-Stunden-Blöcken absolviert werden. [3–4 × 8 Std. oder 5–7 × 4 Std.] | K92: Hybrid | M92: Praxisaufgabe
B94: 7 | C94: 3/4 | D94: Arbeiten auf der Baustelle | E94: =SUM(E95:E113) -> 94 | F94: =SUM(F95:F113) -> 166 | G94: =(E94+F94)/2 -> 130
B95: 7 | C95: 3/4 | D95: Sicherheit auf der Baustelle | E95: 4 | F95: 8 | G95: =(E95+F95)/2 -> 6 | H95: Ein Block | J95: Dieses Modul kann aufgrund seines praxisorientierten Charakters und des geringen theoretischen Anteils in einer einzigen Sitzung absolviert werden. [1 x 4–8 Std. oder 1–2 x 4 Std.] | K95: Werkstätte | M95: Präsenz
B96: 7 | C96: 3/4 | D96: Organisation der Baustelle | E96: 6 | F96: 10 | G96: =(E96+F96)/2 -> 8 | H96: Ein Block | J96: Dieses Modul kann aufgrund seines praxisorientierten Charakters und des geringen theoretischen Anteils in einer einzigen Einheit absolviert werden. [1 x 6–10 Std. oder 2 x 4 Std.] | K96: Werkstätte | M96: Präsenz
B97: 7 | C97: 3/4 | D97: Materialvorbereitung | E97: 4 | F97: 6 | G97: =(E97+F97)/2 -> 5 | H97: Ein Block | J97: Aufgrund des geringen Arbeitsaufwands kann das Modul in einer Einheit abgehalten werden. [1 x 4–6 Stunden praktische Arbeit] | K97: Werkstätte | M97: Präsenz
B98: 7 | C98: 3/4 | D98: Materialwirtschaft | E98: 8 | F98: 12 | G98: =(E98+F98)/2 -> 10 | H98: 8h Blöcke | J98: Dieses Modul kann aufgrund des praktischen Charakters und des geringen theoretischen Anteils in 8-Stunden-Blöcken oder bei Bedarf auch in 4-Stunden-Blöcken absolviert werden. [1 x 8 Std. oder 2–3 x 4 Std. praktische Arbeit] | K98: Werkstätte | M98: Präsenz
B99: 7 | C99: 3/4 | D99: Logistik | E99: 8 | F99: 12 | G99: =(E99+F99)/2 -> 10 | H99: 8h Blöcke | J99: Dieses Modul kann aufgrund des praktischen Charakters und des geringen theoretischen Anteils in 8-Stunden-Blöcken oder bei Bedarf auch in 4-Stunden-Blöcken absolviert werden. [1 x 8 Std. oder 2–3 x 4 Std. praktische Arbeit] | K99: Werkstätte | M99: Präsenz
B100: 7 | C100: 3/4 | D100: Lesen von Plänen | E100: 4 | F100: 6 | G100: =(E100+F100)/2 -> 5 | H100: Ein Block | J100: Aufgrund des geringen Arbeitsaufwands kann das Modul in einer Einheit abgehalten werden. [1 x 4–6 Stunden praktische Arbeit] | K100: Werkstätte | M100: Präsenz
B101: 7 | C101: 3/4 | D101: Umgang mit Werkzeugen | E101: 2 | F101: 4 | G101: =(E101+F101)/2 -> 3 | H101: Ein Block | J101: Aufgrund des geringen Arbeitsaufwands kann das Modul in einer Einheit abgehalten werden. [1 x 2–4 Stunden praktische Arbeit] | K101: Werkstätte | M101: Präsenz
B102: 7 | C102: 3/4 | D102: Einbau und Montage von Fertigbauteilen | E102: 10 | F102: 30 | G102: =(E102+F102)/2 -> 20 | H102: 8h Blöcke | J102: Aufgrund des praktischen Charakters und des geringen theoretischen Anteils kann dieses Modul in 8-Stunden-Blöcken absolviert werden. [2–4 x 8 Std. oder 3–8 x 4 Std. praktische Arbeit] | K102: Werkstätte | M102: Präsenz
B103: 7 | C103: 3/4 | D103: Installation – Gebäudetechnik | E103: 4 | F103: 6 | G103: =(E103+F103)/2 -> 5 | H103: Ein Block | J103: Aufgrund des geringen Arbeitsaufwands kann das Modul in einer Einheit abgehalten werden. [1 x 4–6 Stunden praktische Arbeit] | K103: Werkstätte | M103: Präsenz
B104: 7 | C104: 3/4 | D104: Montage und Einbau – Unterdächer | E104: 4 | F104: 6 | G104: =(E104+F104)/2 -> 5 | H104: Ein Block | J104: Aufgrund des geringen Arbeitsaufwands kann das Modul in einer Einheit abgehalten werden. [1 x 4–6 Stunden praktische Arbeit] | K104: Werkstätte | M104: Präsenz
B105: 7 | C105: 3/4 | D105: Montage und Einbau – Dämm- und Schutzschichten | E105: 6 | F105: 10 | G105: =(E105+F105)/2 -> 8 | H105: Ein Block | J105: Dieses Modul kann aufgrund seines praxisorientierten Charakters und des geringen theoretischen Anteils in einer einzigen Einheit absolviert werden. [1 x 6–10 Std. oder 2 x 4 Std.] | K105: Werkstätte | M105: Präsenz
B106: 7 | C106: 3/4 | D106: Montage und Einbau – Türen und Tore | E106: 2 | F106: 4 | G106: =(E106+F106)/2 -> 3 | H106: Ein Block | J106: Aufgrund des geringen Arbeitsaufwands kann das Modul in einer Einheit abgehalten werden. [1 x 2–4 Stunden praktische Arbeit] | K106: Werkstätte | M106: Präsenz
... B113: 7 | C113: 3/4 | D113: Wartung | E113: 2 | F113: 4 | G113: =(E113+F113)/2 -> 3 | H113: Ein Block | J113: Aufgrund des geringen Arbeitsaufwands kann das Modul in einer Einheit abgehalten werden. [1 x 2–4 Stunden praktische Arbeit] | K113: Werkstätte | M113: Präsenz
B115: 8 | C115: 3/4 | D115: Grüne und digitale Kompetenzen, Rückbau und Sanierung | E115: =SUM(E116:E124) -> 90 | F115: =SUM(F116:F124) -> 130 | G115: =(E115+F115)/2 -> 110
B116: 8 | C116: 3/4 | D116: Grüne Kompetenzen (Wissen und Fähigkeiten) | E116: 12 | F116: 16 | G116: =(E116+F116)/2 -> 14 | H116: 8h Blöcke | J116: Dieses Modul kann aufgrund des praxisorientierten Aufbaus mit geringem theoretischem Anteil in 8-Stunden-Blöcken durchgeführt werden, bei Bedarf auch in 4-Stunden-Blöcken, je nach Gesamtdauer. [2 x 8 Stunden oder 1 x 8 Stunden + 1 x 4 Stunden oder 3–4 x 4 Stunden praktische Arbeit] | K116: Klassenzimmer | M116: Präsenz
B117: 8 | C117: 3/4 | D117: Digitale Kompetenzen (Wissen und Fähigkeiten) | E117: 12 | F117: 16 | G117: =(E117+F117)/2 -> 14 | H117: 8h Blöcke | J117: Dieses Modul kann aufgrund des praxisorientierten Aufbaus mit geringem theoretischem Anteil in 8-Stunden-Blöcken durchgeführt werden, bei Bedarf auch in 4-Stunden-Blöcken, je nach Gesamtdauer. [2 x 8 Stunden oder 1 x 8 Stunden + 1 x 4 Stunden oder 3–4 x 4 Stunden praktische Arbeit] | K117: Klassenzimmer | M117: Präsenz
B118: 8 | C118: 3/4 | D118: Instandhaltung und Sanierung – Vorgehensweise | E118: 20 | F118: 30 | G118: =(E118+F118)/2 -> 25 | H118: 8h Blöcke | J118: Dieses Modul kann aufgrund des praktischen Charakters und des geringen theoretischen Anteils in 8-Stunden-Blöcken absolviert werden. [3–4 x 8 Stunden praktische Arbeit] | K118: Werkstätte | M118: Präsenz
B119: 8 | C119: 3/4 | D119: Instandhaltung und Sanierung – Aufbauten | E119: 12 | F119: 18 | G119: =(E119+F119)/2 -> 15 | H119: 8h Blöcke | J119: Dieses Modul kann aufgrund des praktischen Charakters und des geringen theoretischen Anteils in 8-Stunden-Blöcken absolviert werden. [2 x 8 Stunden praktische Arbeit] | K119: Werkstätte | M119: Präsenz
B120: 8 | C120: 3/4 | D120: Instandhaltung und Sanierung – Dämm- und Funktionsschichten | E120: 8 | F120: 12 | G120: =(E120+F120)/2 -> 10 | H120: 8h Blöcke | J120: Dieses Modul kann aufgrund des praxisorientierten Aufbaus mit geringem theoretischem Anteil in 8-Stunden-Blöcken durchgeführt werden, bei Bedarf auch in 4-Stunden-Blöcken, je nach Gesamtdauer. [1 x 8 Std. oder 1 x 8 Std. + 1 x 4 Std. oder 2–3 x 4 Std. praktische Arbeit] | K120: Werkstätte | M120: Präsenz
B121: 8 | C121: 3/4 | D121: Instandhaltung und Sanierung – Energiesysteme | E121: 4 | F121: 6 | G121: =(E121+F121)/2 -> 5 | H121: Ein Block | J121: Dank der praxisorientierten Gestaltung und des geringen Zeitaufwands kann dieses Modul in einem Durchgang absolviert werden. [1 x 4–6 Std.] | K121: Werkstätte | M121: Präsenz
B122: 8 | C122: 3/4 | D122: Instandhaltung und Sanierung – Beschichtungen | E122: 2 | F122: 4 | G122: =(E122+F122)/2 -> 3 | H122: Ein Block | J122: Dank der praxisorientierten Gestaltung und des geringen Zeitaufwands lässt sich dieses Modul in einem Durchgang absolvieren. [1 x 2–4 Std.] | K122: Werkstätte | M122: Präsenz
B123: 8 | C123: 3/4 | D123: Rückbau | E123: 12 | F123: 16 | G123: =(E123+F123)/2 -> 14 | H123: 8h Blöcke | J123: Dieses Modul kann aufgrund des praxisorientierten Aufbaus mit geringem theoretischem Anteil in 8-Stunden-Blöcken durchgeführt werden, bei Bedarf auch in 4-Stunden-Blöcken, je nach Gesamtdauer. [2 x 8 Stunden oder 1 x 8 Stunden + 1 x 4 Stunden oder 3–4 x 4 Stunden praktische Arbeit] | K123: Werkstätte | M123: Präsenz
B124: 8 | C124: 3/4 | D124: Entsorgung & Recycling | E124: 8 | F124: 12 | G124: =(E124+F124)/2 -> 10 | H124: 8h Blöcke | J124: Dieses Modul kann aufgrund des praxisorientierten Aufbaus mit geringem theoretischem Anteil in 8-Stunden-Blöcken durchgeführt werden, bei Bedarf auch in 4-Stunden-Blöcken, je nach Gesamtdauer. [1 x 8 Std. oder 1 x 8 Std. + 1 x 4 Std. oder 2–3 x 4 Std. praktische Arbeit] | K124: Werkstätte | M124: Präsenz
D126: Fahrberechtigung | E126: =SUM(E127:E128) -> 40 | F126: =SUM(F127:F128) -> 40 | G126: =AVERAGE(E126:F126) -> 40
D127: Kranschein-Kurs | E127: 16 | F127: 16 | G127: =(E127+F127)/2 -> 16 | H127: 8h Blöcke | J127: Die Gestaltung des Moduls hängt von den externen Partnern ab, die diese Kurse anbieten. Das Modul kann jedoch in 8-Stunden-Einheiten abgehalten werden. [2 x 8 Std.] | K127: Werkstätte | L127: Klassenzimmer | M127: Prüfung vor Ort
D128: Gabelstapler-Kurs | E128: 24 | F128: 24 | G128: =(E128+F128)/2 -> 24 | H128: 8h Blöcke | J128: Die Gestaltung des Moduls hängt von den externen Partnern ab, die diese Kurse anbieten. Das Modul kann jedoch in 8-Stunden-Einheiten abgehalten werden. [3 x 8 Std.] | K128: Werkstätte | L128: Klassenzimmer | M128: Prüfung vor Ort
B130: 9 | C130: 3/4 | D130: Kundenservice und Betriebsorganisation | E130: =SUM(E131:E141) -> 110 | F130: =SUM(F131:F141) -> 158 | G130: =(E130+F130)/2 -> 134
...

Sheet Zeitplanung
W4: Mehode 1 | Z4: Optional
U5: Model 1 - Geblockt | W5: Fr 14:00 - 18:00, Sa 08:00 - 16:00 | Z5: Fr 13:00 - 19:00, Sa 08:00 - 18:00
W6: =12*52/12 -> 52 | X6: h/Monat | Z6: =16*52/12 -> 69.333333 | AA6: h/Monat
U7: Model 2 - Abend | W7: Di bis Do 18:00 - 21:50 | Z7: + 2x Mo und Fr 18:00 - 21:50
W8: =4*365*3/7/12 -> 52.142857 | X8: h/Monat | Z8: =W8+4*2*2 -> 68.142857 | AA8: h/Monat
U9: Model 3 - Vollzeit | W9: Mo bis Fr 8:00 - 16:00
W10: =40*52/12 -> 173.33333 | X10: h/Monat
B16: Modell 1 | U16: Modell 2
B18: Micro-Credential 1 | K18: Jänner | O18: Februar | U18: Micro-Credential 1 | AC18: Jänner | AG18: Februar
K19: 1 | L19: Do | M19: Neujahr | N19: 1 | O19: 1 | P19: So | AC19: 1 | AD19: Do | AE19: Neujahr | AF19: 1 | AG19: 1 | AH19: So
F20: Soll [h] | G20: Zeitplan | I20: Ist [h] | K20: 2 | L20: Fr | O20: 2 | P20: Mo | R20: 6 | Y20: Soll [h] | Z20: Zeitplan | AC20: 2 | AD20: Fr | AG20: 2 | AH20: Mo | AJ20: 6
B21: 1 | C21: ='Detailübersicht MC'!D16 -> Einführung | F21: ='Detailübersicht MC'!G16 -> 7 | G21: Fr, 9. Jan. | H21: 14:00-18:00 | I21: 4 | K21: 3 | L21: Sa | O21: 3 | P21: Di | U21: 1 | V21: =C21 -> Einführung | Y21: =F21 -> 7 | Z21: Mi, 7. Jan. | AA21: 18:00-21:50 | AC21: 3 | AD21: Sa | AG21: 3 | AH21: Di | AI21: 8
G22: Sa, 10. Jan. | H22: 08:00-11:00 | I22: 3 | K22: 4 | L22: So | O22: 4 | P22: Mi | Z22: Do, 8. Jan. | AA22: 18:00-21:50 | AC22: 4 | AD22: So | AG22: 4 | AH22: Mi | AI22: 9
B23: 2 | C23: ='Detailübersicht MC'!D17 -> Unternehmensorganisation & betriebswirtschaftliche Grundlagen | F23: ='Detailübersicht MC'!G17 -> 6 | G23: Sa, 10. Jan. | H23: 11:00-18:00 | I23: 7 | K23: 5 | L23: Mo | N23: 2 | O23: 5 | P23: Do | U23: 2 | V23: =C23 -> Unternehmensorganisation & betriebswirtschaftliche Grundlagen | Y23: =F23 -> 6 | Z23: Di, 13. Jan. | AA23: 18:00-21:50 | AC23: 5 | AD23: Mo | AF23: 2 | AG23: 5 | AH23: Do | AI23: 9
B24: 3 | C24: ='Detailübersicht MC'!D18 -> Rechte und Pflichten von Arbeitgebern und Arbeitnehmern | F24: ='Detailübersicht MC'!G18 -> 5 | G24: Fr, 16. Jan. | H24: 14:00-18:00 | I24: 4 | K24: 6 | L24: Di | M24: Heilige drei Könige | O24: 6 | P24: Fr | Q24: 7 | Z24: Mi, 14. Jan. | AA24: 18:00-19:50 | AC24: 6 | AD24: Di | AE24: Heilige drei Könige | AG24: 6 | AH24: Fr | AI24: 9
B25: 4 | C25: ='Detailübersicht MC'!D19 -> Vorschriften und Gesetze zum Holzbau | F25: ='Detailübersicht MC'!G19 -> 7 | G25: Sa, 17. Jan. | H25: 08:00-12:00 | I25: 4 | K25: 7 | L25: Mi | O25: 7 | P25: Sa | Q25: 9 | U25: 3 | V25: =C24 -> Rechte und Pflichten von Arbeitgebern und Arbeitnehmern | Y25: =F24 -> 5 | Z25: Mi, 14. Jan. | AA25: 20:00-21:50 | AC25: 7 | AD25: Mi | AE25: 1 | AG25: 7 | AH25: Sa
G26: Fr, 23. Jan. | H26: 13:00-16:00 | I26: 3 | K26: 8 | L26: Do | O26: 8 | P26: So | Z26: Do, 15. Jan. | AA26: 18:00-21:50 | AC26: 8 | AD26: Do | AE26: 1 | AG26: 8 | AH26: So
B27: 5 | C27: ='Detailübersicht MC'!D20 -> Spezifische Vorschriften für den Holzbau (Brandschutz, Wärmeschutz, Schallschutz, Feuchtigkeitsschutz) | F27: ='Detailübersicht MC'!G20 -> 10 | G27: Sa, 17. Jan. | H27: 12:00-16:00 | I27: 4 | K27: 9 | L27: Fr | M27: 1 | O27: 9 | P27: Mo | R27: 7 | U27: 4 | V27: =C25 -> Vorschriften und Gesetze zum Holzbau | Y27: =F25 -> 7 | Z27: Mo, 19. Jan. | AA27: 18:00-21:50 | AC27: 9 | AD27: Fr | AG27: 9 | AH27: Mo | AI27: 9 | AJ27: 7
G28: Fr, 23. Jan. | H28: 16:00-19:00 | I28: 3 | K28: 10 | L28: Sa | M28: 1+2 | O28: 10 | P28: Di | Z28: Di, 20. Jan. | AA28: 18:00-21:50 | AC28: 10 | AD28: Sa | AG28: 10 | AH28: Di | AI28: 9
G29: Sa, 24. Jan. | H29: 08:00-11:00 | I29: 3 | K29: 11 | L29: So | O29: 11 | P29: Mi | U29: 5 | V29: =C27 -> Spezifische Vorschriften für den Holzbau (Brandschutz, Wärmeschutz, Schallschutz, Feuchtigkeitsschutz) | Y29: =F27 -> 10 | Z29: Mi, 21. Jan. | AA29: 18:00-21:50 | AC29: 11 | AD29: So | AG29: 11 | AH29: Mi | AI29: 9
B30: 6 | C30: ='Detailübersicht MC'!D21 -> Sicherheitsvorschriften auf Baustellen | F30: ='Detailübersicht MC'!G21 -> 7 | G30: Sa, 24. Jan. | H30: 11:00-18:00 | I30: 7 | K30: 12 | L30: Mo | N30: 3 | O30: 12 | P30: Do | Z30: Do, 22. Jan. | AA30: 18:00-21:50 | AC30: 12 | AD30: Mo | AF30: 3 | AG30: 12 | AH30: Do | AI30: 9
B31: 7 | C31: ='Detailübersicht MC'!D22 -> Arbeits- und Prozessplanung | F31: ='Detailübersicht MC'!G22 -> 12 | G31: Fr, 30. Jan. | H31: 14:00-18:00 | I31: 4 | K31: 13 | L31: Di | O31: 13 | P31: Fr | Q31: 9 | U31: 6 | V31: =C30 -> Sicherheitsvorschriften auf Baustellen | Y31: =F30 -> 7 | Z31: Mo, 26. Jan. | AA31: 18:00-21:50 | AC31: 13 | AD31: Di | AE31: 2 | AG31: 13 | AH31: Fr
G32: Sa, 31. Jan. | H32: 08:00-12:00 | I32: 4 | K32: 14 | L32: Mi | O32: 14 | P32: Sa | Q32: 9 | Z32: Di, 27. Jan. | AA32: 18:00-21:50 | AC32: 14 | AD32: Mi | AE32: 2+3 | AG32: 14 | AH32: Sa
G33: Fr, 6. Feb. | H33: 14:00-18:00 | I33: 4 | K33: 15 | L33: Do | O33: 15 | P33: So | U33: 7 | V33: =C31 -> Arbeits- und Prozessplanung | Y33: =F31 -> 12 | Z33: Mi, 28. Jan. | AA33: 18:00-21:50 | AC33: 15 | AD33: Do | AE33: 3 | AG33: 15 | AH33: So
B34: 8 | C34: ='Detailübersicht MC'!D23 -> Logistik | F34: ='Detailübersicht MC'!G23 -> 5 | G34: Sa, 31. Jan. | H34: 12:00-18:00 | I34: 6 | K34: 16 | L34: Fr | M34: 3 | O34: 16 | P34: Mo | R34: 8 | Z34: Do, 29. Jan. | AA34: 18:00-21:50 | AC34: 16 | AD34: Fr | AG34: 16 | AH34: Mo | AI34: 10 | AJ34: 8
B35: 9 | C35: ='Detailübersicht MC'!D24 -> Wirtschaftliches Denken und Handeln | F35: ='Detailübersicht MC'!G24 -> 30 | G35: Sa, 7. Feb. | H35: 08:00-18:00 | I35: 10 | K35: 17 | L35: Sa | M35: 4+5 | O35: 17 | P35: Di | Z35: Fr, 30. Jan. | AA35: 18:00-21:50 | AC35: 17 | AD35: Sa | AG35: 17 | AH35: Di | AI35: 10
G36: Fr, 13. Feb. | H36: 13:00-19:00 | I36: 6 | K36: 18 | L36: So | O36: 18 | P36: Mi | U36: 8 | V36: =C34 -> Logistik | Y36: =F34 -> 5 | Z36: Di, 3. Feb. | AA36: 18:00-21:50 | AC36: 18 | AD36: So | AG36: 18 | AH36: Mi | AI36: 10
G37: Sa, 14. Feb. | H37: 08:00-18:00 | I37: 10 | K37: 19 | L37: Mo | N37: 4 | O37: 19 | P37: Do | U37: 9 | V37: =C35 -> Wirtschaftliches Denken und Handeln | Y37: =F35 -> 30 | Z37: Mi, 4. Feb. | AA37: 18:00-21:50 | AC37: 19 | AD37: Mo | AE37: 4 | AF37: 4 | AG37: 19 | AH37: Do | AI37: 10
B38: 10 | C38: ='Detailübersicht MC'!D25 -> Dokumente und Verträge | F38: ='Detailübersicht MC'!G25 -> 15 | G38: Fr, 20. Feb. | H38: 13:00-19:00 | I38: 6 | K38: 20 | L38: Di | O38: 20 | P38: Fr | Q38: 10 | Z38: Do, 5. Feb. | AA38: 18:00-21:50 | AC38: 20 | AD38: Di | AE38: 4 | AG38: 20 | AH38: Fr | AI38: 10
G39: Sa, 21. Feb. | H39: 08:00-13:00 | I39: 5 | K39: 21 | L39: Mi | O39: 21 | P39: Sa | Q39: 10+11 | Z39: Fr, 6. Feb. | AA39: 18:00-21:50 | AC39: 21 | AD39: Mi | AE39: 5 | AG39: 21 | AH39: Sa
G40: Sa, 28. Feb. | H40: 08:00-13:00 | I40: 5 | K40: 22 | L40: Do | O40: 22 | P40: So | Z40: Mo, 9. Feb. | AA40: 18:00-21:50 | AC40: 22 | AD40: Do | AE40: 5 | AG40: 22 | AH40: So
B41: 11 | C41: ='Detailübersicht MC'!D26 -> Unternehmerisches Denken und Handeln | F41: ='Detailübersicht MC'!G26 -> 16 | G41: Sa, 21. Feb. | H41: 13:00-18:00 | I41: 5 | K41: 23 | L41: Fr | M41: 4+5 | O41: 23 | P41: Mo | R41: 9 | Z41: Di, 10. Feb. | AA41: 18:00-21:50 | AC41: 23 | AD41: Fr | AG41: 23 | AH41: Mo | AJ41: 9
G42: Fr, 27. Feb. | H42: 13:00-19:00 | I42: 6 | K42: 24 | L42: Sa | M42: 5+6 | O42: 24 | P42: Di | Z42: Mi, 11. Feb. | AA42: 18:00-21:50 | AC42: 24 | AD42: Sa | AG42: 24 | AH42: Di | AI42: 11
G43: Sa, 28. Feb. | H43: 13:00-18:00 | I43: 5 | K43: 25 | L43: So | O43: 25 | P43: Mi | Z43: Do, 12. Feb. | AA43: 18:00-21:50 | AC43: 25 | AD43: So | AG43: 25 | AH43: Mi | AI43: 11
F44: =SUM(F21:F43) -> 120 | G44: =I44-F44 -> -2 | I44: =SUM(I21:I43) -> 118 | K44: 26 | L44: Mo | N44: 5 | O44: 26 | P44: Do | U44: 10 | V44: =C38 -> Dokumente und Verträge | Y44: =F38 -> 15 | Z44: Di, 17. Feb. | AA44: 18:00-21:50 | AC44: 26 | AD44: Mo | AE44: 6 | AF44: 5 | AG44: 26 | AH44: Do | AI44: 11
K45: 27 | L45: Di | O45: 27 | P45: Fr | Q45: 11 | Z45: Mi, 18. Feb. | AA45: 18:00-21:50 | AC45: 27 | AD45: Di | AE45: 6 | AG45: 27 | AH45: Fr | AI45: 11
K46: 28 | L46: Mi | O46: 28 | P46: Sa | Q46: 10+11 | Z46: Do, 19. Feb. | AA46: 18:00-21:50 | AC46: 28 | AD46: Mi | AE46: 7 | AG46: 28 | AH46: Sa
K47: 29 | L47: Do | Z47: Fr, 20. Feb. | AA47: 18:00-21:50 | AC47: 29 | AD47: Do | AE47: 7
K48: 30 | L48: Fr | M48: 7 | U48: 11 | V48: =C41 -> Unternehmerisches Denken und Handeln | Y48: =F41 -> 16 | Z48: Di, 24. Feb. | AA48: 18:00-21:50 | AC48: 30 | AD48: Fr | AE48: 7
K49: 31 | L49: Sa | M49: 7+8 | Z49: Mi, 25. Feb. | AA49: 18:00-21:50 | AC49: 31 | AD49: Sa
Z50: Do, 26. Feb. | AA50: 18:00-21:50
Z51: Fr, 27. Feb. | AA51: 18:00-21:50
Y52: =SUM(Y21:Y48) -> 120 | Z52: =Y52-AA52 -> 0 | AA52: =30*4 -> 120
B55: Micro-Credential 2 | K55: März | O55: April
K56: 1 | L56: So | O56: 1 | P56: Mi
F57: Soll [h] | G57: Zeitplan | I57: Ist [h] | K57: 2 | L57: Mo | N57: 10 | O57: 2 | P57: Do
B58: 1 | C58: ='Detailübersicht MC'!D29 -> Holzarten | F58: ='Detailübersicht MC'!G29 -> 14 | G58: Fr, 6. März | H58: 14:00-18:00 | I58: 4 | K58: 3 | L58: Di | O58: 3 | P58: Fr | Q58: 5
G59: Sa, 7. März | H59: 08:00-12:00 | I59: 4 | K59: 4 | L59: Mi | O59: 4 | P59: Sa | Q59: 6+7
G60: Fr, 13. März | H60: 13:00-19:00 | I60: 6 | K60: 5 | L60: Do | O60: 5 | P60: So | Q60: Ostersonntag
B61: 2 | C61: ='Detailübersicht MC'!D30 -> Holzwerkstoffe und sonstige Baustoffe | F61: ='Detailübersicht MC'!G30 -> 18 | G61: Sa, 7. März | H61: 12:00-18:00 | I61: 6 | K61: 6 | L61: Fr | M61: 1 | O61: 6 | P61: Mo | Q61: Ostermontag | R61: 15
G62: Sa, 14. März | H62: 08:00-18:00 | I62: 10 | K62: 7 | L62: Sa | M62: 1+2 | O62: 7 | P62: Di
B63: 3 | C63: ='Detailübersicht MC'!D31 -> Schutzschichten und Dämmung | F63: ='Detailübersicht MC'!G31 -> 10 | G63: Fr, 20. März | H63: 14:00-18:00 | I63: 4 | K63: 8 | L63: So | O63: 8 | P63: Mi
G64: Sa, 21. März | H64: 08:00-14:00 | I64: 6 | K64: 9 | L64: Mo | N64: 11 | O64: 9 | P64: Do
B65: 4 | C65: ='Detailübersicht MC'!D32 -> Holzschädlinge und Schutzmaßnahmen | F65: ='Detailübersicht MC'!G32 -> 10 | G65: Sa, 21. März | H65: 14:00-16:00 | I65: 2 | K65: 10 | L65: Di | O65: 10 | P65: Fr | Q65: 6
G66: Fr, 27. März | H66: 14:00-18:00 | I66: 4 | K66: 11 | L66: Mi | O66: 11 | P66: Sa | Q66: 6+7
G67: Sa, 28. März | H67: 08:00-12:00 | I67: 4 | K67: 12 | L67: Do | O67: 12 | P67: So
B68: 5 | C68: ='Detailübersicht MC'!D33 -> Oberflächenbeschichtung und Nachbearbeitung – Theorie | F68: ='Detailübersicht MC'!G33 -> 10 | G68: Sa, 28. März | H68: 12:00-18:00 | I68: 6 | K68: 13 | L68: Fr | M68: 1 | O68: 13 | P68: Mo | R68: 16
G69: Fr, 3. Apr. | H69: 14:00-18:00 | I69: 4 | K69: 14 | L69: Sa | M69: 2 | O69: 14 | P69: Di
B70: 6 | C70: ='Detailübersicht MC'!D34 -> Holztrocknung | F70: ='Detailübersicht MC'!G34 -> 10 | G70: Sa, 4. Apr. | H70: 08:00-12:00 | I70: 4 | K70: 15 | L70: So | O70: 15 | P70: Mi
G71: Fr, 10. Apr. | H71: 14:00-18:00 | I71: 4 | K71: 16 | L71: Mo | N71: 12 | O71: 16 | P71: Do
G72: Sa, 11. Apr. | H72: 08:00-11:00 | I72: 3 | K72: 17 | L72: Di | O72: 17 | P72: Fr | Q72: 8
B73: 7 | C73: ='Detailübersicht MC'!D35 -> Lagerung von Holz und anderen Baumaterialien | F73: ='Detailübersicht MC'!G35 -> 7 | G73: Sa, 4. Apr. | H73: 12:00-16:00 | I73: 4 | K73: 18 | L73: Mi | O73: 18 | P73: Sa | Q73: 8+9
G74: Sa, 11. Apr. | H74: 11:00-14:00 | I74: 3 | K74: 19 | L74: Do | O74: 19 | P74: So
B75: 8 | C75: ='Detailübersicht MC'!D36 -> Verbindungsmittel für Holzbau | F75: ='Detailübersicht MC'!G36 -> 10 | G75: Fr, 17. Apr. | H75: 13:00-19:00 | I75: 6 | K75: 20 | L75: Fr | M75: 3 | O75: 20 | P75: Mo | R75: 17
G76: Sa, 18. Apr. | H76: 08:00-12:00 | I76: 4 | K76: 21 | L76: Sa | M76: 3+4 | O76: 21 | P76: Di
B77: 9 | C77: ='Detailübersicht MC'!D37 -> Holzbearbeitungswerkzeuge und -maschinen | F77: ='Detailübersicht MC'!G37 -> 8 | G77: Sa, 18. Apr. | H77: 12:00-16:00 | I77: 4 | K77: 22 | L77: So | O77: 22 | P77: Mi
G78: Sa, 25. Apr. | H78: 08:00-12:00 | I78: 4 | K78: 23 | L78: Mo | N78: 13 | O78: 23 | P78: Do
B79: 10 | C79: ='Detailübersicht MC'!D38 -> CNC-Maschinen | F79: ='Detailübersicht MC'!G38 -> 10 | G79: Fr, 24. Apr. | H79: 14:00-18:00 | I79: 4 | K79: 24 | L79: Di | O79: 24 | P79: Fr | Q79: 10
G80: Sa, 25. Apr. | H80: 12:00-18:00 | I80: 6 | K80: 25 | L80: Mi | O80: 25 | P80: Sa | Q80: 9+10
F81: =SUM(F58:F80) -> 107 | G81: =I81-F81 -> -1 | I81: =SUM(I58:I80) -> 106 | K81: 26 | L81: Do | O81: 26 | P81: So
K82: 27 | L82: Fr | M82: 4 | O82: 27 | P82: Mo | R82: 18
K83: 28 | L83: Sa | M83: 4+5 | O83: 28 | P83: Di
K84: 29 | L84: So | O84: 29 | P84: Mi
K85: 30 | L85: Mo | N85: 14 | O85: 30 | P85: Do
K86: 31 | L86: Di
B91: Micro-Credential 3 | K91: Mai | O91: Juni
K92: 1 | L92: Fr | M92: Staatsfeiertag | O92: 1 | P92: Mo | R92: 23
F93: Soll [h] | G93: Zeitplan | I93: Ist [h] | K93: 2 | L93: Sa | O93: 2 | P93: Di
B94: 1 | C94: ='Detailübersicht MC'!D41 -> Wandkonstruktionen | F94: ='Detailübersicht MC'!G41 -> 8 | G94: Fr, 8. Mai | H94: 13:00-19:00 | I94: 6 | K94: 3 | L94: So | O94: 3 | P94: Mi
G95: Sa, 9. Mai | H95: 08:00-10:00 | I95: 2 | K95: 4 | L95: Mo | N95: 19 | O95: 4 | P95: Do | Q95: Fronleichnam
B96: 2 | C96: ='Detailübersicht MC'!D42 -> Deckenkonstruktionen | F96: ='Detailübersicht MC'!G42 -> 8 | G96: Sa, 9. Mai | H96: 10:00-16:00 | I96: 6 | K96: 5 | L96: Di | O96: 5 | P96: Fr | Q96: 10
G97: Fr, 15. Mai | H97: 13:00-15:00 | I97: 2
B98: 3 | C98: ='Detailübersicht MC'!D43 -> Dachkonstruktionen | F98: ='Detailübersicht MC'!G43 -> 8 | G98: Fr, 15. Mai | H98: 15:00-19:00 | I98: 4 | K98: 6 | L98: Mi | O98: 6 | P98: Sa | Q98: 11+12
G99: Sa, 16. Mai | H99: 08:00-12:00 | I99: 4 | K99: 7 | L99: Do | O99: 7 | P99: So
B100: 4 | C100: ='Detailübersicht MC'!D44 -> Bodenkonstruktionen | F100: ='Detailübersicht MC'!G44 -> 6 | G100: Sa, 16. Mai | H100: 12:00-18:00 | I100: 6 | K100: 8 | L100: Fr | M100: 1 | O100: 8 | P100: Mo | R100: 24
B101: 5 | C101: ='Detailübersicht MC'!D45 -> Treppenkonstuktionen | F101: ='Detailübersicht MC'!G45 -> 6 | G101: Fr, 22. Mai | H101: 14:00-18:00 | I101: 4 | K101: 9 | L101: Sa | M101: 1+2 | O101: 9 | P101: Di
G102: Sa, 23. Mai | H102: 08:00-10:00 | I102: 2 | K102: 10 | L102: So | O102: 10 | P102: Mi
B103: 6 | C103: ='Detailübersicht MC'!D46 -> Tür und Tor-Konstruktionen | F103: ='Detailübersicht MC'!G46 -> 6 | G103: Sa, 23. Mai | H103: 10:00-16:00 | I103: 6 | K103: 11 | L103: Mo | N103: 20 | O103: 11 | P103: Do
B104: 7 | C104: ='Detailübersicht MC'!D47 -> Holzbau – Verkleidungen und Einbauteile | F104: ='Detailübersicht MC'!G47 -> 6 | G104: Fr, 29. Mai | H104: 13:00-19:00 | I104: 6 | K104: 12 | L104: Di | O104: 12 | P104: Fr | Q104: 12
B105: 8 | C105: ='Detailübersicht MC'!D48 -> Terrassen und Balkone | F105: ='Detailübersicht MC'!G48 -> 6 | G105: Sa, 30. Mai | H105: 08:00-14:00 | I105: 6 | K105: 13 | L105: Mi | O105: 13 | P105: Sa | Q105: 11+12
B106: 9 | C106: ='Detailübersicht MC'!D49 -> Gebäudetechnik in Holzbauwerken | F106: ='Detailübersicht MC'!G49 -> 3 | G106: Sa, 30. Mai | H106: 14:00-18:00 | I106: 3 | K106: 14 | L106: Do | M106: Christi Himmelfahrt | O106: 14 | P106: So
B107: 10 | C107: ='Detailübersicht MC'!D50 -> Brückenkonstruktion | F107: ='Detailübersicht MC'!G50 -> 5 | G107: Fr, 5. Juni | H107: 13:00-18:00 | I107: 5 | K107: 15 | L107: Fr | M107: 2+3 | O107: 15 | P107: Mo | R107: 25
B108: 11 | C108: ='Detailübersicht MC'!D51 -> Verbindungselemente | F108: ='Detailübersicht MC'!G51 -> 8 | G108: Sa, 6. Juni | H108: 08:00-12:00 | I108: 4 | K108: 16 | L108: Sa | M108: 3+4 | O108: 16 | P108: Di
G109: Sa, 13. Juni | H109: 08:00-12:00 | I109: 4 | K109: 17 | L109: So | O109: 17 | P109: Mi
B110: 12 | C110: ='Detailübersicht MC'!D52 -> Vorfertigung und Schichtaufbauten | F110: ='Detailübersicht MC'!G52 -> 16 | G110: Sa, 6. Juni | H110: 12:00-18:00 | I110: 6 | K110: 18 | L110: Mo | N110: 21 | O110: 18 | P110: Do
G111: Fr, 12. Juni | H111: 13:00-19:00 | I111: 6 | K111: 19 | L111: Di | O111: 19 | P111: Fr | Q111: 13
G112: Sa, 13. Juni | H112: 12:00-16:00 | I112: 4 | K112: 20 | L112: Mi | O112: 20 | P112: Sa | Q112: 13+14
B113: 13 | C113: ='Detailübersicht MC'!D53 -> Bauphysik-Prinzipien | F113: ='Detailübersicht MC'!G53 -> 8 | G113: Fr, 19. Juni | H113: 14:00-18:00 | I113: 4 | K113: 21 | L113: Do | O113: 21 | P113: So
G114: Sa, 20. Juni | H114: 08:00-12:00 | I114: 4 | K114: 22 | L114: Fr | M114: 5 | O114: 22 | P114: Mo | R114: 26
B115: 14 | C115: ='Detailübersicht MC'!D54 -> Materialauswahl | F115: ='Detailübersicht MC'!G54 -> 6 | G115: Sa, 20. Juni | H115: 12:00-18:00 | I115: 6 | K115: 23 | L115: Sa | M115: 5+6 | O115: 23 | P115: Di
...

Sheet Ausbildungsplan
B15: MC | C15: Nr. | D15: Bezeichnung | E15: Beschreibung | F15: Zeitplan | I15: Ausbilder | J15: Trainingsmethoden | K15: Ort | M15: Benötigtes Equipment | N15: Zusätzliche Informationen
F16: Datum | G16: Zeit | H16: Std. | K16: Standort | L16: Raum
B17: 1 | C17: 1 | D17: =Zeitplanung!C21 -> Einführung | E17: Einführung in die Ausbildung, den Ausbildungsbetrieb, die Berufsschule, das Berufsbild sowie typische Tätigkeiten und Weiterbildungsmöglichkeiten | F17: Fr, 9. Jan. | G17: 14:00-18:00 | H17: 4 | I17: Lehrer (BS) 1 | J17: Einführung | K17: Unternehmen | L17: Klassenzimmer | M17: Keine Ausrüstung erforderlich | R17: Ausbilder
F18: Sa, 10. Jan. | G18: 08:00-11:00 | H18: 3 | I18: Ausbilder 1 | J18: Einführung | K18: Unternehmen | L18: Trainingswerkstätte | M18: Keine Ausrüstung erforderlich
B19: 1 | C19: 2 | D19: =Zeitplanung!C23 -> Unternehmensorganisation & betriebswirtschaftliche Grundlagen | E19: Überblick über das Unternehmen einschließlich Abteilungen und Ansprechpartner im Unternehmen | F19: Sa, 10. Jan. | G19: 11:00-18:00 | H19: 7 | I19: Ausbilder 1 | J19: Einführung + Führung durch Unternehmen | K19: Unternehmen | L19: Trainingswerkstätte | M19: Keine Ausrüstung erforderlich | R19: Ausbilder 1
B20: 1 | C20: 3 | D20: =Zeitplanung!C24 -> Rechte und Pflichten von Arbeitgebern und Arbeitnehmern | E20: Rechte und Pflichten von Arbeitgeber und Arbeitnehmer (Auszubildender) + wie man solche Informationen recherchiert | F20: Fr, 16. Jan. | G20: 14:00-18:00 | H20: 4 | I20: Ausbilder 3 | J20: Frontalunterricht + Rechercheaufgabe für Auszubildende | K20: Unternehmen | L20: Klassenzimmer | M20: PCs oder Laptops für Auszubildende | N20: Erstellung einer Forschungsaufgabe, die von den Auszubildenden zu bearbeiten und einzureichen ist (Grundlage für die Bewertung) | R20: Ausbilder 2
B21: 1 | C21: 4 | D21: =Zeitplanung!C25 -> Vorschriften und Gesetze zum Holzbau | E21: Gesetze, Normen (national und international) und Richtlinien im Holzbau wie Bauvorschriften, Sicherheitsrichtlinien und mehr | F21: Sa, 17. Jan. | G21: 08:00-12:00 | H21: 4 | I21: Lehrer (BS) 2 | J21: Frontalunterricht | K21: Berufsschule | L21: Klassenzimmer | M21: Keine Ausrüstung erforderlich | R21: Ausbilder 3
F22: Fr, 23. Jan. | G22: 13:00-16:00 | H22: 3 | I22: Lehrer (BS) 1 | J22: Frontalunterricht | K22: Berufsschule | L22: Klassenzimmer | M22: Keine Ausrüstung erforderlich | R22: Lehrer (BS) 1
B23: 1 | C23: 5 | D23: =Zeitplanung!C27 -> Spezifische Vorschriften für den Holzbau (Brandschutz, Wärmeschutz, Schallschutz, Feuchtigkeitsschutz) | E23: Vorschriften, Normen, Prüfverfahren und Institutionen im Holzbau (Brandschutz, Wärmedämmung, Akustik, Feuchtigkeitsschutz) | F23: Sa, 17. Jan. | G23: 12:00-16:00 | H23: 4 | I23: Lehrer (BS) 2 | J23: Frontalunterricht | K23: Berufsschule | L23: Klassenzimmer | M23: Keine Ausrüstung erforderlich | R23: Lehrer (BS) 2
F24: Fr, 23. Jan. | G24: 16:00-19:00 | H24: 3 | I24: Lehrer (BS) 1 | J24: Frontalunterricht | K24: Berufsschule | L24: Klassenzimmer | M24: Keine Ausrüstung erforderlich
F25: Sa, 24. Jan. | G25: 08:00-11:00 | H25: 3 | I25: Ausbilder 1 | J25: Frontalunterricht | K25: Unternehmen | L25: Baustelle | M25: Keine Ausrüstung erforderlich | R25: Unternehmen/Berufsschule
B26: 1 | C26: 6 | D26: =Zeitplanung!C30 -> Sicherheitsvorschriften auf Baustellen | E26: Normen, Vorschriften und Gesetze für die Baustelle mit Schwerpunkt auf der Sicherheit auf der Baustelle (potenzielle Gefahren, sicherer Umgang mit Maschinen, Brandschutz, Verhalten im Notfall) | F26: Sa, 24. Jan. | G26: 11:00-18:00 | H26: 7 | I26: Ausbilder 1 | J26: Praxisorientierter Unterricht | K26: Unternehmen | L26: Baustelle | M26: Keine Ausrüstung erforderlich | N26: Hier geht es hauptsächlich um Gesetze und Vorschriften; um es interessanter zu gestalten, wird der Stoff so praxisnah wie möglich vermittelt
B27: 1 | C27: 7 | D27: =Zeitplanung!C31 -> Arbeits- und Prozessplanung | E27: Grundlagen der Beschaffung, Arbeits- und Prozessplanung + Projekt für Auszubildende zur Teamarbeit | F27: Fr, 30. Jan | G27: 14:00-18:00 | H27: 4 | I27: Ausbilder 1 | J27: Frontalunterricht | K27: Unternehmen | L27: Klassenzimmer | M27: Keine Ausrüstung erforderlich | R27: Unternehmen
F28: Sa, 31. Jan. | G28: 08:00-12:00 | H28: 4 | I28: Ausbilder 2 | J28: Projekt | K28: Unternehmen | L28: Klassenzimmer | M28: PCs oder Laptops für Auszubildende | R28: Berufsschule
F29: Fr, 6. Feb. | G29: 14:00-18:00 | H29: 4 | I29: Ausbilder 2 | J29: Projekt | K29: Unternehmen | L29: Klassenzimmer | M29: PCs oder Laptops für Auszubildende
B30: 1 | C30: 8 | D30: =Zeitplanung!C34 -> Logistik | E30: Zusammenhänge zwischen Logistik, Arbeitsmedizin, Sicherheit und anderen Gewerken | F30: Sa, 31. Jan. | G30: 12:00-18:00 | H30: 6 | I30: Ausbilder 2 | J30: Frontalunterricht | K30: Unternehmen | L30: Produktionshalle 1 | M30: No equipment needed | R30: Raum
B31: 1 | C31: 9 | D31: =Zeitplanung!C35 -> Wirtschaftliches Denken und Handeln | E31: Wirtschaftliche Kompetenzen wie Zahlungsabwicklung, Bankgeschäfte, fundierte finanzielle Entscheidungen, Steuern, Spar- und Finanzierungsformen sowie Wohnungswesen | F31: Sa, 7. Feb. | G31: 08:00-18:00 | H31: 10 | I31: Lehrer (BS) 1 | J31: Frontalunterricht | K31: Berufsschule | L31: Klassenzimmer | M31: Keine Ausrüstung erforderlich
F32: Fr, 13. Feb. | G32: 13:00-19:00 | H32: 6 | I32: Lehrer (BS) 1 | J32: Frontalunterricht | K32: Berufsschule | L32: Klassenzimmer | M32: Keine Ausrüstung erforderlich | R32: Klassenzimmer
F33: Sa, 14. Feb. | G33: 08:00-18:00 | H33: 10 | I33: Lehrer (BS) 1 | J33: Frontalunterricht | K33: Berufsschule | L33: Klassenzimmer | M33: Keine Ausrüstung erforderlich | R33: Produktionshalle 1
B34: 1 | C34: 10 | D34: =Zeitplanung!C38 -> Dokumente und Verträge | E34: Verwaltung von Verträgen und anderen Dokumenten, richtige Reaktion auf Vertragsunregelmäßigkeiten, Durchführung von Kosten-Nutzen-Vergleichen und Abschluss von Versicherungsverträgen | F34: Fr, 20. Feb. | G34: 13:00-19:00 | H34: 6 | I34: Lehrer (BS) 1 | J34: Frontalunterricht | K34: Berufsschule | L34: Klassenzimmer | M34: Keine Ausrüstung erforderlich | R34: Produktionshalle 2
F35: Sa, 21. Feb. | G35: 08:00-13:00 | H35: 5 | I35: Lehrer (BS) 1 | J35: Frontalunterricht | K35: Berufsschule | L35: Klassenzimmer | M35: Keine Ausrüstung erforderlich | R35: Trainingswerkstätte
F36: Sa, 28. Feb. | G36: 08:00-13:00 | H36: 5 | I36: Lehrer (BS) 1 | J36: Frontalunterricht | K36: Berufsschule | L36: Klassenzimmer | M36: Keine Ausrüstung erforderlich | R36: Trainingsbaustelle
B37: 1 | C37: 11 | D37: =Zeitplanung!C41 -> Unternehmerisches Denken und Handeln | E37: Gründung und Führung eines Unternehmens sowie alle relevanten Schritte einschließlich Buchhaltung, Jahresabschlüsse, Kalkulationen, Steuern, … | F37: Sa, 21. Feb. | G37: 13:00-18:00 | H37: 5 | I37: Lehrer (BS) 1 | J37: Frontalunterricht | K37: Berufsschule | L37: Klassenzimmer | M37: Keine Ausrüstung erforderlich | R37: Baustelle
F38: Fr, 27. Feb. | G38: 13:00-19:00 | H38: 6 | I38: Lehrer (BS) 1 | J38: Frontalunterricht | K38: Berufsschule | L38: Klassenzimmer | M38: Keine Ausrüstung erforderlich | R38: Metallwerkstätte
F39: Sa, 28. Feb. | G39: 13:00-18:00 | H39: 5 | I39: Lehrer (BS) 1 | J39: Projekt | K39: Berufsschule | L39: Klassenzimmer | M39: PCs oder Laptops für Auszubildende | N39: Die Auszubildenden erhalten die Aufgabe, ein Unternehmen zu gründen, und müssen herausfinden, was dafür erforderlich ist, eine Bilanz erstellen usw.
