Workbook

Sheet Beschreibung

Sheet Detailübersicht MC
B13: MC | C13: EQF | D13: Bezeichnung | E13: Zeit [h] | H13: Zeitformat | K13: Medium
E14: Minimum | F14: Maximum | G14: Durchschnitt | H14: Bevorzugt | I14: Optional | J14: Begründung | K14: Bevorzugt | L14: Optional | M14: Abschluss
B15: 1 | C15: 3/4 | D15: Wirtschaftsrecht, Normen und Vorschriften im Holzbau | E15: =SUM(E16:E26) -> 90 | F15: =SUM(F16:F26) -> 150 | G15: =(E15+F15)/2 -> 120 | S15: Zeitformat
B16: 1 | C16: 3/4 | D16: Einführung | E16: 6 | F16: 8 | G16: =(E16+F16)/2 -> 7 | H16: Ein Block | I16: Variabel | J16: 1–2 Stunden Einführung (Bildungssystem, Aufgabenstellungen usw.), 1–2 Stunden allgemeine betriebswirtschaftliche Grundlagen, anschließend Selbstbewertung der Lernenden zu ihrem Unternehmen mit anschließender Überprüfung. (Kann auch als Hausaufgabe bearbeitet werden, um dieses Thema abzuschließen.) [2–4 Stunden Einführung und Theorie + 2–4 Stunden Aufgabenstellung] | K16: Klassenzimmer | L16: Recherche | M16: Hausaufgabe
B17: 1 | C17: 3/4 | D17: Unternehmensorganisation & betriebswirtschaftliche Grundlagen | E17: 4 | F17: 8 | G17: =(E17+F17)/2 -> 6 | H17: Ein Block | I17: Variabel | J17: 2–4 Stunden allgemeine Grundlagen zur Unternehmensorganisation, anschließend Selbsteinschätzung der Auszubildenden zu ihrem Unternehmen mit anschließender Überprüfung. (Kann auch als Hausaufgabe bearbeitet werden, um dieses Thema abzuschließen.) [2–4 Stunden Theorie + 2–4 Stunden Aufgabe] | K17: Online | L17: Recherche | M17: Hausaufgabe | S17: Ein Block
B18: 1 | C18: 3/4 | D18: Rechte und Pflichten von Arbeitgebern und Arbeitnehmern | E18: 4 | F18: 6 | G18: =(E18+F18)/2 -> 5 | H18: Ein Block | I18: Variabel | J18: Das Ganze lässt sich in einer Sitzung absolvieren, da der Zeitaufwand nicht allzu hoch und der Lernstoff nicht allzu komplex ist. Es kann auch als Selbststudium mit vorbereiteten Lehrvideos durchgeführt werden. [4 Stunden Theorie + 1 Stunde Recherche/Aufgabe] | K18: Online | L18: Recherche | M18: Prüfung online | S18: 8h Blöcke
B19: 1 | C19: 3/4 | D19: Vorschriften und Gesetze zum Holzbau | E19: 6 | F19: 8 | G19: =(E19+F19)/2 -> 7 | H19: 4h Blöcke | I19: Variabel | J19: Aufgrund der Komplexität empfiehlt es sich, das Modul auf mindestens zwei Tage aufzuteilen. Es kann auch als Selbststudium mit vorbereiteten Lehrvideos durchgeführt werden. [2 x 3–4 Stunden Theorie] | K19: Online | M19: Prüfung online | S19: 4h Blöcke
B20: 1 | C20: 3/4 | D20: Spezifische Vorschriften für den Holzbau (Brandschutz, Wärmeschutz, Schallschutz, Feuchtigkeitsschutz) | E20: 8 | F20: 12 | G20: =(E20+F20)/2 -> 10 | H20: 4h Blöcke | I20: Variabel | J20: Aufgrund der Komplexität empfiehlt es sich, das Modul auf mindestens 2–3 Tage aufzuteilen. Es kann auch als Selbststudium mit vorbereiteten Lehrvideos durchgeführt werden. [2–3 x 4 Stunden Theorie] | K20: Online | M20: Prüfung online | S20: 2h Blöcke
B21: 1 | C21: 3/4 | D21: Sicherheitsvorschriften auf Baustellen | E21: 6 | F21: 8 | G21: =(E21+F21)/2 -> 7 | H21: Ein Block | I21: Variabel | J21: Das Ganze lässt sich in einer Sitzung absolvieren, da der Inhalt nicht allzu theoretisch ist. (Es besteht die Möglichkeit, dieses Thema in zwei Teile aufzuteilen.) Kann auch als Selbststudium mit vorbereiteten Lehrvideos durchgeführt werden. [1 x 6–8 Std. oder 2 x 4 Std.] | K21: Online | M21: Prüfung online | S21: Variabel
B22: 1 | C22: 3/4 | D22: Arbeits- und Prozessplanung | E22: 10 | F22: 14 | G22: =(E22+F22)/2 -> 12 | H22: 4h Blöcke | I22: Variabel | J22: Dieses Modul umfasst mindestens einen ausführlichen theoretischen Teil, der in zwei bis drei 4-stündigen Einheiten abgehalten werden kann. Darüber hinaus kann eine Einheit dafür genutzt werden, dass die Lernenden Teile der Prozessplanung selbstständig als Aufgabe bearbeiten. Der praktische Teil kann ebenfalls als Hausaufgabe gestellt werden. [2 x 4 Std. Theorie + 4 Std. Aufgabe] | K22: Hybrid | M22: Hausaufgabe
B23: 1 | C23: 3/4 | D23: Logistik | E23: 4 | F23: 6 | G23: =(E23+F23)/2 -> 5 | H23: Ein Block | I23: Variabel | J23: Kann entweder als Präsenzveranstaltung absolviert oder online im Selbststudium anhand von vorbereiteten Unterlagen mit einem abschließenden Quiz/einer abschließenden Prüfung absolviert werden. [1 x 4–6 Stunden Theorie] | K23: Online | M23: Prüfung online
B24: 1 | C24: 3/4 | D24: Wirtschaftliches Denken und Handeln | E24: 20 | F24: 40 | G24: =(E24+F24)/2 -> 30 | H24: 8h Blöcke | I24: Variabel | J24: Aufgrund der Vielfalt der in diesem Modul behandelten Themen kann es trotz seiner Komplexität in 8-Stunden-Blöcken absolviert werden. Es wird empfohlen, zumindest einen Teil des Moduls im Präsenzunterricht zu absolvieren (aufgrund der Komplexität). Die einfacheren Teile können mithilfe vorbereiteter Unterlagen online absolviert werden. [4 x 8 Std. Theorie oder 8 x 4 Std.] | K24: Hybrid | L24: Online | M24: Prüfung online | S24: Medium
B25: 1 | C25: 3/4 | D25: Dokumente und Verträge | E25: 10 | F25: 20 | G25: =(E25+F25)/2 -> 15 | H25: 4h Blöcke | J25: Aufgrund der Komplexität des Themas sollte die Veranstaltung in mehreren, nicht allzu langen Blöcken (max. 4 Stunden) abgehalten werden. Es empfiehlt sich, zumindest Teile davon als Präsenzveranstaltung durchzuführen, um Fragen zu ermöglichen und die Beteiligung besser steuern zu können. [4 x 4 Stunden Theorie] | K25: Hybrid | M25: Hausaufgabe
B26: 1 | C26: 3/4 | D26: Unternehmerisches Denken und Handeln | E26: 12 | F26: 20 | G26: =(E26+F26)/2 -> 16 | H26: 4h Blöcke | J26: Aufgrund der Komplexität des Themas sollte die Veranstaltung in mehreren, nicht allzu langen Blöcken (max. 4 Stunden) abgehalten werden. Es empfiehlt sich, zumindest Teile davon als Präsenzveranstaltung durchzuführen, um Fragen zu ermöglichen und die Beteiligung besser steuern zu können. [4 x 4 Stunden Theorie] | K26: Hybrid | M26: Hausaufgabe | S26: Klassenzimmer
S27: Werkstättte
B28: 2 | C28: 3/4 | D28: Holztechnologie, Verarbeitung und Materialkunde | E28: =SUM(E29:E38) -> 88 | F28: =SUM(F29:F38) -> 126 | G28: =(E28+F28)/2 -> 107 | S28: Hybrid
B29: 2 | C29: 3/4 | D29: Holzarten | E29: 12 | F29: 16 | G29: =(E29+F29)/2 -> 14 | H29: 4h Blöcke | J29: Dieses Modul kann in Blöcken von jeweils 4 Stunden abgehalten werden, da es einerseits recht komplex und wichtig, andererseits aber sehr praxisorientiert ist, weshalb zumindest der größte Teil davon vor Ort stattfinden sollte. [3–4 x 4 Stunden Theorie] | K29: Klassenzimmer | L29: Hybrid | M29: Prüfung vor Ort | S29: Online
B30: 2 | C30: 3/4 | D30: Holzwerkstoffe und sonstige Baustoffe | E30: 16 | F30: 20 | G30: =(E30+F30)/2 -> 18 | H30: 8h Blöcke | I30: Variabel | J30: Dieses Modul kann in Blöcken von bis zu 8 Stunden abgehalten werden, da es sehr praxisorientiert ist; dies ist auch der Grund, warum zumindest der Großteil davon vor Ort stattfinden sollte. [2 x 8 Std. oder 4–5 x 4 Std. Theorie] | K30: Hybrid | L30: Online | M30: Prüfung online | S30: Recherche
B31: 2 | C31: 3/4 | D31: Schutzschichten und Dämmung | E31: 8 | F31: 12 | G31: =(E31+F31)/2 -> 10 | H31: 8h Blöcke | I31: Variabel | J31: Dieses Modul kann in Blöcken von bis zu 8 Stunden abgehalten werden, da es sehr praxisorientiert ist; dies ist auch der Grund, warum zumindest der Großteil davon vor Ort stattfinden sollte. [1 x 8 Std. oder 2–3 x 4 Std. Theorie] | K31: Hybrid | L31: Online | M31: Prüfung online
B32: 2 | C32: 3/4 | D32: Holzschädlinge und Schutzmaßnahmen | E32: 8 | F32: 12 | G32: =(E32+F32)/2 -> 10 | H32: 8h Blöcke | I32: Variabel | J32: Dieses Modul kann in Blöcken von bis zu 8 Stunden abgehalten werden, da es sehr praxisorientiert ist; dies ist auch der Grund, warum zumindest der Großteil davon vor Ort stattfinden sollte. [1 x 8 Std. oder 2–3 x 4 Std. Theorie] | K32: Hybrid | M32: Prüfung online
B33: 2 | C33: 3/4 | D33: Oberflächenbeschichtung und Nachbearbeitung – Theorie | E33: 8 | F33: 12 | G33: =(E33+F33)/2 -> 10 | H33: 8h Blöcke | I33: Variabel | J33: Dieses Modul kann in Blöcken von bis zu 8 Stunden abgehalten werden, da es sehr praxisorientiert ist; dies ist auch der Grund, warum zumindest der Großteil davon vor Ort stattfinden sollte. [1 x 8 Std. oder 2–3 x 4 Std. Theorie] | K33: Hybrid | M33: Prüfung online | S33: Abschluss
B34: 2 | C34: 3/4 | D34: Holztrocknung | E34: 8 | F34: 12 | G34: =(E34+F34)/2 -> 10 | H34: 4h Blöcke | J34: Es sollten mindestens zwei Termine angesetzt werden, damit der Trocknungsplan erstellt werden kann und die Maschine beim ersten Termin beladen und beim zweiten Termin entladen sowie die Qualität geprüft werden kann. [1–2 x 4 Stunden Theorie und Beladen + 1 x 4 Stunden Entladen und Qualitätsprüfung] | K34: Klassenzimmer | L34: Werkstätte | M34: Prüfung vor Ort
B35: 2 | C35: 3/4 | D35: Lagerung von Holz und anderen Baumaterialien | E35: 6 | F35: 8 | G35: =(E35+F35)/2 -> 7 | H35: 8h Blöcke | J35: Dieses Modul kann in Blöcken von bis zu 8 Stunden abgehalten werden, da es sehr praxisorientiert ist; daher sollten bzw. könnten Teile davon in der Werkstätte durchgeführt werden. [1 x 8 Std. oder 2 x 4 Std. Theorie] | K35: Online | L35: Werkstätte | M35: Prüfung online | S35: Präsenz
B36: 2 | C36: 3/4 | D36: Verbindungsmittel für Holzbau | E36: 8 | F36: 12 | G36: =(E36+F36)/2 -> 10 | H36: 4h Blöcke | J36: Aufgrund seiner Komplexität sollte das Modul in Blöcke von maximal 4 Stunden unterteilt werden. [2–3 × 4 Stunden Theorie] | K36: Hybrid | L36: Online | M36: Prüfung online | S36: Prüfung vor Ort
B37: 2 | C37: 3/4 | D37: Holzbearbeitungswerkzeuge und -maschinen | E37: 6 | F37: 10 | G37: =(E37+F37)/2 -> 8 | H37: Ein Block | J37: Dieses Modul ist sehr praxisorientiert und kann daher in einem Durchgang absolviert werden. Es ist sinnvoll, einen Großteil davon in der Werkstätte abzuhalten, damit die Auszubildenden ein besseres Verständnis für die Maschinen entwickeln. [1 x 8 Std. oder 2 x 4 Std. Theorie] | K37: Klassenzimmer | L37: Werkstätte | M37: Präsenz | S37: Prüfung online
B38: 2 | C38: 3/4 | D38: CNC-Maschinen | E38: 8 | F38: 12 | G38: =(E38+F38)/2 -> 10 | H38: 4h Blöcke | J38: Der Inhalt dieses Moduls ist sehr technisch und komplex, weshalb die Unterrichtseinheiten maximal 4 Stunden dauern sollten. [2–3 x 4 Stunden Theorie] | K38: Hybrid | L38: Werkstätte | M38: Prüfung online | S38: Hausaufgabe
S39: Praxisaufgabe
B40: 3 | C40: 3/4 | D40: Holzbau-Theorie | E40: =SUM(E41:E55) -> 84 | F40: =SUM(F41:F55) -> 148 | G40: =(E40+F40)/2 -> 116
B41: 3 | C41: 3/4 | D41: Wandkonstruktionen | E41: 6 | F41: 10 | G41: =(E41+F41)/2 -> 8 | H41: 4h Blöcke | J41: Aufgrund der Bedeutung des Themas und einer gewissen Komplexität sollten die Einheiten maximal 4 Stunden dauern. Sie können vor Ort oder online stattfinden, wobei der Präsenzunterricht vorzuziehen ist, um die Beteiligung der Lernenden zu fördern. [2 x 4 Stunden Theorie] | K41: Klassenzimmer | L41: Online | M41: Prüfung online
B42: 3 | C42: 3/4 | D42: Deckenkonstruktionen | E42: 6 | F42: 10 | G42: =(E42+F42)/2 -> 8 | H42: 4h Blöcke | J42: Aufgrund der Bedeutung des Themas und einer gewissen Komplexität sollten die Einheiten maximal 4 Stunden dauern. Sie können vor Ort oder online stattfinden, wobei der Präsenzunterricht vorzuziehen ist, um die Beteiligung der Lernenden zu fördern. [2 x 4 Stunden Theorie] | K42: Klassenzimmer | L42: Online | M42: Prüfung online
B43: 3 | C43: 3/4 | D43: Dachkonstruktionen | E43: 6 | F43: 10 | G43: =(E43+F43)/2 -> 8 | H43: 4h Blöcke | J43: Aufgrund der Bedeutung des Themas und einer gewissen Komplexität sollten die Einheiten maximal 4 Stunden dauern. Sie können vor Ort oder online stattfinden, wobei der Präsenzunterricht vorzuziehen ist, um die Beteiligung der Lernenden zu fördern. [2 x 4 Stunden Theorie] | K43: Klassenzimmer | L43: Online | M43: Prüfung online
B44: 3 | C44: 3/4 | D44: Bodenkonstruktionen | E44: 4 | F44: 8 | G44: =(E44+F44)/2 -> 6 | H44: Ein Block | J44: Dieses Thema kann in einer einzigen Einheit behandelt werden; alternativ wären auch zwei Einheiten à 4 Stunden möglich, je nach Gesamtstundenzahl. Die Durchführung ist sowohl online als auch vor Ort möglich. [1 x 4–8 Std. oder 2 x 4 Std. Theorie] | K44: Online | M44: Prüfung online
B45: 3 | C45: 3/4 | D45: Treppenkonstuktionen | E45: 4 | F45: 8 | G45: =(E45+F45)/2 -> 6 | H45: Ein Block | J45: Dieses Thema kann in einer einzigen Einheit behandelt werden; alternativ wären auch zwei Einheiten à 4 Stunden möglich, je nach Gesamtstundenzahl. Die Durchführung ist sowohl online als auch vor Ort möglich. [1 x 4–8 Std. oder 2 x 4 Std. Theorie] | K45: Online | M45: Prüfung online
B46: 3 | C46: 3/4 | D46: Tür und Tor-Konstruktionen | E46: 4 | F46: 8 | G46: =(E46+F46)/2 -> 6 | H46: Ein Block | J46: Dieses Thema kann in einer einzigen Einheit behandelt werden; alternativ wären auch zwei Einheiten à 4 Stunden möglich, je nach Gesamtstundenzahl. Die Durchführung ist sowohl online als auch vor Ort möglich. [1 x 4–8 Std. oder 2 x 4 Std. Theorie] | K46: Online | M46: Prüfung online
B47: 3 | C47: 3/4 | D47: Holzbau – Verkleidungen und Einbauteile | E47: 4 | F47: 8 | G47: =(E47+F47)/2 -> 6 | H47: Ein Block | J47: Dieses Thema kann in einer einzigen Einheit behandelt werden; alternativ wären auch zwei Einheiten à 4 Stunden möglich, je nach Gesamtstundenzahl. Die Durchführung ist sowohl online als auch vor Ort möglich. [1 x 4–8 Std. oder 2 x 4 Std. Theorie] | K47: Online | M47: Prüfung online
B48: 3 | C48: 3/4 | D48: Terrassen und Balkone | E48: 4 | F48: 8 | G48: =(E48+F48)/2 -> 6 | H48: Ein Block | J48: Dieses Thema kann in einer einzigen Einheit behandelt werden; alternativ wären auch zwei Einheiten à 4 Stunden möglich, je nach Gesamtstundenzahl. Die Durchführung ist sowohl online als auch vor Ort möglich. [1 x 4–8 Std. oder 2 x 4 Std. Theorie] | K48: Online | M48: Prüfung online
B49: 3 | C49: 3/4 | D49: Gebäudetechnik in Holzbauwerken | E49: 2 | F49: 4 | G49: =(E49+F49)/2 -> 3 | H49: Ein Block | J49: Aufgrund des geringen Gesamtstundenaufwands kann dieses Thema in einer einzigen Sitzung abgehalten werden. Es kann sowohl online als auch vor Ort stattfinden. [1 x 4 Stunden Theorie] | K49: Online | M49: Prüfung online
B50: 3 | C50: 3/4 | D50: Brückenkonstruktion | E50: 4 | F50: 6 | G50: =(E50+F50)/2 -> 5 | H50: Ein Block | J50: Aufgrund des geringen Gesamtstundenaufwands kann dieses Thema in einer einzigen Sitzung abgehalten werden. Es kann sowohl online als auch vor Ort stattfinden. [1 x 4 Stunden Theorie] | K50: Online | M50: Prüfung online
B51: 3 | C51: 3/4 | D51: Verbindungselemente | E51: 6 | F51: 10 | G51: =(E51+F51)/2 -> 8 | H51: 4h Blöcke | J51: Aufgrund der Bedeutung des Themas und einer gewissen Komplexität sollten die Einheiten maximal 4 Stunden dauern. Sie können vor Ort oder online stattfinden, wobei der Präsenzunterricht vorzuziehen ist, um die Beteiligung der Lernenden zu fördern. [2 x 4 Stunden Theorie] | K51: Klassenzimmer | L51: Online | M51: Prüfung online
B52: 3 | C52: 3/4 | D52: Vorfertigung und Schichtaufbauten | E52: 12 | F52: 20 | G52: =(E52+F52)/2 -> 16 | H52: 4h Blöcke | I52: 8h Blöcke | J52: Der Kurs kann in Einheiten von 4 oder 8 Stunden abgehalten werden; aufgrund der Bedeutung des Themas wären 4 Stunden vorzuziehen. [3–5 x 4 Stunden oder 2 x 8 Stunden Theorie] | K52: Online | M52: Prüfung online
...

Sheet Zeitplanung
W4: Mehode 1 | Z4: Optional
U5: Model 1 - Geblockt | W5: Fr 14:00 - 18:00, Sa 08:00 - 16:00 | Z5: Fr 13:00 - 19:00, Sa 08:00 - 18:00
W6: =12*52/12 -> 52 | X6: h/Monat | Z6: =16*52/12 -> 69.333333 | AA6: h/Monat
U7: Model 2 - Abend | W7: Di bis Do 18:00 - 21:50 | Z7: + 2x Mo und Fr 18:00 - 21:50
W8: =4*365*3/7/12 -> 52.142857 | X8: h/Monat | Z8: =W8+4*2*2 -> 68.142857 | AA8: h/Monat
U9: Model 3 - Vollzeit | W9: Mo bis Fr 8:00 - 16:00
W10: =40*52/12 -> 173.33333 | X10: h/Monat
B16: Modell 1 | U16: Modell 2
B18: Micro-Credential 1 | K18: Jänner | O18: Februar | U18: Micro-Credential 1 | AC18: Jänner | AG18: Februar
K19: 1 | L19: Do | M19: Neujahr | N19: 1 | O19: 1 | P19: So | AC19: 1 | AD19: Do | AE19: Neujahr | AF19: 1 | AG19: 1 | AH19: So
F20: Soll [h] | G20: Zeitplan | I20: Ist [h] | K20: 2 | L20: Fr | O20: 2 | P20: Mo | R20: 6 | Y20: Soll [h] | Z20: Zeitplan | AC20: 2 | AD20: Fr | AG20: 2 | AH20: Mo | AJ20: 6
B21: 1 | C21: ='Detailübersicht MC'!D16 -> Einführung | F21: ='Detailübersicht MC'!G16 -> 7 | G21: Fr, 9. Jan. | H21: 14:00-18:00 | I21: 4 | K21: 3 | L21: Sa | O21: 3 | P21: Di | U21: 1 | V21: =C21 -> Einführung | Y21: =F21 -> 7 | Z21: Mi, 7. Jan. | AA21: 18:00-21:50 | AC21: 3 | AD21: Sa | AG21: 3 | AH21: Di | AI21: 8
G22: Sa, 10. Jan. | H22: 08:00-11:00 | I22: 3 | K22: 4 | L22: So | O22: 4 | P22: Mi | Z22: Do, 8. Jan. | AA22: 18:00-21:50 | AC22: 4 | AD22: So | AG22: 4 | AH22: Mi | AI22: 9
B23: 2 | C23: ='Detailübersicht MC'!D17 -> Unternehmensorganisation & betriebswirtschaftliche Grundlagen | F23: ='Detailübersicht MC'!G17 -> 6 | G23: Sa, 10. Jan. | H23: 11:00-18:00 | I23: 7 | K23: 5 | L23: Mo | N23: 2 | O23: 5 | P23: Do | U23: 2 | V23: =C23 -> Unternehmensorganisation & betriebswirtschaftliche Grundlagen | Y23: =F23 -> 6 | Z23: Di, 13. Jan. | AA23: 18:00-21:50 | AC23: 5 | AD23: Mo | AF23: 2 | AG23: 5 | AH23: Do | AI23: 9
B24: 3 | C24: ='Detailübersicht MC'!D18 -> Rechte und Pflichten von Arbeitgebern und Arbeitnehmern | F24: ='Detailübersicht MC'!G18 -> 5 | G24: Fr, 16. Jan. | H24: 14:00-18:00 | I24: 4 | K24: 6 | L24: Di | M24: Heilige drei Könige | O24: 6 | P24: Fr | Q24: 7 | Z24: Mi, 14. Jan. | AA24: 18:00-19:50 | AC24: 6 | AD24: Di | AE24: Heilige drei Könige | AG24: 6 | AH24: Fr | AI24: 9
B25: 4 | C25: ='Detailübersicht MC'!D19 -> Vorschriften und Gesetze zum Holzbau | F25: ='Detailübersicht MC'!G19 -> 7 | G25: Sa, 17. Jan. | H25: 08:00-12:00 | I25: 4 | K25: 7 | L25: Mi | O25: 7 | P25: Sa | Q25: 9 | U25: 3 | V25: =C24 -> Rechte und Pflichten von Arbeitgebern und Arbeitnehmern | Y25: =F24 -> 5 | Z25: Mi, 14. Jan. | AA25: 20:00-21:50 | AC25: 7 | AD25: Mi | AE25: 1 | AG25: 7 | AH25: Sa
G26: Fr, 23. Jan. | H26: 13:00-16:00 | I26: 3 | K26: 8 | L26: Do | O26: 8 | P26: So | Z26: Do, 15. Jan. | AA26: 18:00-21:50 | AC26: 8 | AD26: Do | AE26: 1 | AG26: 8 | AH26: So
B27: 5 | C27: ='Detailübersicht MC'!D20 -> Spezifische Vorschriften für den Holzbau (Brandschutz, Wärmeschutz, Schallschutz, Feuchtigkeitsschutz) | F27: ='Detailübersicht MC'!G20 -> 10 | G27: Sa, 17. Jan. | H27: 12:00-16:00 | I27: 4 | K27: 9 | L27: Fr | M27: 1 | O27: 9 | P27: Mo | R27: 7 | U27: 4 | V27: =C25 -> Vorschriften und Gesetze zum Holzbau | Y27: =F25 -> 7 | Z27: Mo, 19. Jan. | AA27: 18:00-21:50 | AC27: 9 | AD27: Fr | AG27: 9 | AH27: Mo | AI27: 9 | AJ27: 7
G28: Fr, 23. Jan. | H28: 16:00-19:00 | I28: 3 | K28: 10 | L28: Sa | M28: 1+2 | O28: 10 | P28: Di | Z28: Di, 20. Jan. | AA28: 18:00-21:50 | AC28: 10 | AD28: Sa | AG28: 10 | AH28: Di | AI28: 9
G29: Sa, 24. Jan. | H29: 08:00-11:00 | I29: 3 | K29: 11 | L29: So | O29: 11 | P29: Mi | U29: 5 | V29: =C27 -> Spezifische Vorschriften für den Holzbau (Brandschutz, Wärmeschutz, Schallschutz, Feuchtigkeitsschutz) | Y29: =F27 -> 10 | Z29: Mi, 21. Jan. | AA29: 18:00-21:50 | AC29: 11 | AD29: So | AG29: 11 | AH29: Mi | AI29: 9
B30: 6 | C30: ='Detailübersicht MC'!D21 -> Sicherheitsvorschriften auf Baustellen | F30: ='Detailübersicht MC'!G21 -> 7 | G30: Sa, 24. Jan. | H30: 11:00-18:00 | I30: 7 | K30: 12 | L30: Mo | N30: 3 | O30: 12 | P30: Do | Z30: Do, 22. Jan. | AA30: 18:00-21:50 | AC30: 12 | AD30: Mo | AF30: 3 | AG30: 12 | AH30: Do | AI30: 9
B31: 7 | C31: ='Detailübersicht MC'!D22 -> Arbeits- und Prozessplanung | F31: ='Detailübersicht MC'!G22 -> 12 | G31: Fr, 30. Jan. | H31: 14:00-18:00 | I31: 4 | K31: 13 | L31: Di | O31: 13 | P31: Fr | Q31: 9 | U31: 6 | V31: =C30 -> Sicherheitsvorschriften auf Baustellen | Y31: =F30 -> 7 | Z31: Mo, 26. Jan. | AA31: 18:00-21:50 | AC31: 13 | AD31: Di | AE31: 2 | AG31: 13 | AH31: Fr
G32: Sa, 31. Jan. | H32: 08:00-12:00 | I32: 4 | K32: 14 | L32: Mi | O32: 14 | P32: Sa | Q32: 9 | Z32: Di, 27. Jan. | AA32: 18:00-21:50 | AC32: 14 | AD32: Mi | AE32: 2+3 | AG32: 14 | AH32: Sa
G33: Fr, 6. Feb. | H33: 14:00-18:00 | I33: 4 | K33: 15 | L33: Do | O33: 15 | P33: So | U33: 7 | V33: =C31 -> Arbeits- und Prozessplanung | Y33: =F31 -> 12 | Z33: Mi, 28. Jan. | AA33: 18:00-21:50 | AC33: 15 | AD33: Do | AE33: 3 | AG33: 15 | AH33: So
B34: 8 | C34: ='Detailübersicht MC'!D23 -> Logistik | F34: ='Detailübersicht MC'!G23 -> 5 | G34: Sa, 31. Jan. | H34: 12:00-18:00 | I34: 6 | K34: 16 | L34: Fr | M34: 3 | O34: 16 | P34: Mo | R34: 8 | Z34: Do, 29. Jan. | AA34: 18:00-21:50 | AC34: 16 | AD34: Fr | AG34: 16 | AH34: Mo | AI34: 10 | AJ34: 8
B35: 9 | C35: ='Detailübersicht MC'!D24 -> Wirtschaftliches Denken und Handeln | F35: ='Detailübersicht MC'!G24 -> 30 | G35: Sa, 7. Feb. | H35: 08:00-18:00 | I35: 10 | K35: 17 | L35: Sa | M35: 4+5 | O35: 17 | P35: Di | Z35: Fr, 30. Jan. | AA35: 18:00-21:50 | AC35: 17 | AD35: Sa | AG35: 17 | AH35: Di | AI35: 10
G36: Fr, 13. Feb. | H36: 13:00-19:00 | I36: 6 | K36: 18 | L36: So | O36: 18 | P36: Mi | U36: 8 | V36: =C34 -> Logistik | Y36: =F34 -> 5 | Z36: Di, 3. Feb. | AA36: 18:00-21:50 | AC36: 18 | AD36: So | AG36: 18 | AH36: Mi | AI36: 10
G37: Sa, 14. Feb. | H37: 08:00-18:00 | I37: 10 | K37: 19 | L37: Mo | N37: 4 | O37: 19 | P37: Do | U37: 9 | V37: =C35 -> Wirtschaftliches Denken und Handeln | Y37: =F35 -> 30 | Z37: Mi, 4. Feb. | AA37: 18:00-21:50 | AC37: 19 | AD37: Mo | AE37: 4 | AF37: 4 | AG37: 19 | AH37: Do | AI37: 10
B38: 10 | C38: ='Detailübersicht MC'!D25 -> Dokumente und Verträge | F38: ='Detailübersicht MC'!G25 -> 15 | G38: Fr, 20. Feb. | H38: 13:00-19:00 | I38: 6 | K38: 20 | L38: Di | O38: 20 | P38: Fr | Q38: 10 | Z38: Do, 5. Feb. | AA38: 18:00-21:50 | AC38: 20 | AD38: Di | AE38: 4 | AG38: 20 | AH38: Fr | AI38: 10
G39: Sa, 21. Feb. | H39: 08:00-13:00 | I39: 5 | K39: 21 | L39: Mi | O39: 21 | P39: Sa | Q39: 10+11 | Z39: Fr, 6. Feb. | AA39: 18:00-21:50 | AC39: 21 | AD39: Mi | AE39: 5 | AG39: 21 | AH39: Sa
G40: Sa, 28. Feb. | H40: 08:00-13:00 | I40: 5 | K40: 22 | L40: Do | O40: 22 | P40: So | Z40: Mo, 9. Feb. | AA40: 18:00-21:50 | AC40: 22 | AD40: Do | AE40: 5 | AG40: 22 | AH40: So
B41: 11 | C41: ='Detailübersicht MC'!D26 -> Unternehmerisches Denken und Handeln | F41: ='Detailübersicht MC'!G26 -> 16 | G41: Sa, 21. Feb. | H41: 13:00-18:00 | I41: 5 | K41: 23 | L41: Fr | M41: 4+5 | O41: 23 | P41: Mo | R41: 9 | Z41: Di, 10. Feb. | AA41: 18:00-21:50 | AC41: 23 | AD41: Fr | AG41: 23 | AH41: Mo | AJ41: 9
G42: Fr, 27. Feb. | H42: 13:00-19:00 | I42: 6 | K42: 24 | L42: Sa | M42: 5+6 | O42: 24 | P42: Di | Z42: Mi, 11. Feb. | AA42: 18:00-21:50 | AC42: 24 | AD42: Sa | AG42: 24 | AH42: Di | AI42: 11
G43: Sa, 28. Feb. | H43: 13:00-18:00 | I43: 5 | K43: 25 | L43: So | O43: 25 | P43: Mi | Z43: Do, 12. Feb. | AA43: 18:00-21:50 | AC43: 25 | AD43: So | AG43: 25 | AH43: Mi | AI43: 11
F44: =SUM(F21:F43) -> 120 | G44: =I44-F44 -> -2 | I44: =SUM(I21:I43) -> 118 | K44: 26 | L44: Mo | N44: 5 | O44: 26 | P44: Do | U44: 10 | V44: =C38 -> Dokumente und Verträge | Y44: =F38 -> 15 | Z44: Di, 17. Feb. | AA44: 18:00-21:50 | AC44: 26 | AD44: Mo | AE44: 6 | AF44: 5 | AG44: 26 | AH44: Do | AI44: 11
K45: 27 | L45: Di | O45: 27 | P45: Fr | Q45: 11 | Z45: Mi, 18. Feb. | AA45: 18:00-21:50 | AC45: 27 | AD45: Di | AE45: 6 | AG45: 27 | AH45: Fr | AI45: 11
K46: 28 | L46: Mi | O46: 28 | P46: Sa | Q46: 10+11 | Z46: Do, 19. Feb. | AA46: 18:00-21:50 | AC46: 28 | AD46: Mi | AE46: 7 | AG46: 28 | AH46: Sa
K47: 29 | L47: Do | Z47: Fr, 20. Feb. | AA47: 18:00-21:50 | AC47: 29 | AD47: Do | AE47: 7
K48: 30 | L48: Fr | M48: 7 | U48: 11 | V48: =C41 -> Unternehmerisches Denken und Handeln | Y48: =F41 -> 16 | Z48: Di, 24. Feb. | AA48: 18:00-21:50 | AC48: 30 | AD48: Fr | AE48: 7
K49: 31 | L49: Sa | M49: 7+8 | Z49: Mi, 25. Feb. | AA49: 18:00-21:50 | AC49: 31 | AD49: Sa
...

Sheet Ausbildungsplan
B15: MC | C15: Nr. | D15: Bezeichnung | E15: Beschreibung | F15: Zeitplan | I15: Ausbilder | J15: Trainingsmethoden | K15: Ort | M15: Benötigtes Equipment | N15: Zusätzliche Informationen
F16: Datum | G16: Zeit | H16: Std. | K16: Standort | L16: Raum
B17: 1 | C17: 1 | D17: =Zeitplanung!C21 -> Einführung | E17: Einführung in die Ausbildung, den Ausbildungsbetrieb, die Berufsschule, das Berufsbild sowie typische Tätigkeiten und Weiterbildungsmöglichkeiten | F17: Fr, 9. Jan. | G17: 14:00-18:00 | H17: 4 | I17: Lehrer (BS) 1 | J17: Einführung | K17: Unternehmen | L17: Klassenzimmer | M17: Keine Ausrüstung erforderlich | R17: Ausbilder
F18: Sa, 10. Jan. | G18: 08:00-11:00 | H18: 3 | I18: Ausbilder 1 | J18: Einführung | K18: Unternehmen | L18: Trainingswerkstätte | M18: Keine Ausrüstung erforderlich
B19: 1 | C19: 2 | D19: =Zeitplanung!C23 -> Unternehmensorganisation & betriebswirtschaftliche Grundlagen | E19: Überblick über das Unternehmen einschließlich Abteilungen und Ansprechpartner im Unternehmen | F19: Sa, 10. Jan. | G19: 11:00-18:00 | H19: 7 | I19: Ausbilder 1 | J19: Einführung + Führung durch Unternehmen | K19: Unternehmen | L19: Trainingswerkstätte | M19: Keine Ausrüstung erforderlich | R19: Ausbilder 1
B20: 1 | C20: 3 | D20: =Zeitplanung!C24 -> Rechte und Pflichten von Arbeitgebern und Arbeitnehmern | E20: Rechte und Pflichten von Arbeitgeber und Arbeitnehmer (Auszubildender) + wie man solche Informationen recherchiert | F20: Fr, 16. Jan. | G20: 14:00-18:00 | H20: 4 | I20: Ausbilder 3 | J20: Frontalunterricht + Rechercheaufgabe für Auszubildende | K20: Unternehmen | L20: Klassenzimmer | M20: PCs oder Laptops für Auszubildende | N20: Erstellung einer Forschungsaufgabe, die von den Auszubildenden zu bearbeiten und einzureichen ist (Grundlage für die Bewertung) | R20: Ausbilder 2
B21: 1 | C21: 4 | D21: =Zeitplanung!C25 -> Vorschriften und Gesetze zum Holzbau | E21: Gesetze, Normen (national und international) und Richtlinien im Holzbau wie Bauvorschriften, Sicherheitsrichtlinien und mehr | F21: Sa, 17. Jan. | G21: 08:00-12:00 | H21: 4 | I21: Lehrer (BS) 2 | J21: Frontalunterricht | K21: Berufsschule | L21: Klassenzimmer | M21: Keine Ausrüstung erforderlich | R21: Ausbilder 3
F22: Fr, 23. Jan. | G22: 13:00-16:00 | H22: 3 | I22: Lehrer (BS) 1 | J22: Frontalunterricht | K22: Berufsschule | L22: Klassenzimmer | M22: Keine Ausrüstung erforderlich | R22: Lehrer (BS) 1
B23: 1 | C23: 5 | D23: =Zeitplanung!C27 -> Spezifische Vorschriften für den Holzbau (Brandschutz, Wärmeschutz, Schallschutz, Feuchtigkeitsschutz) | E23: Vorschriften, Normen, Prüfverfahren und Institutionen im Holzbau (Brandschutz, Wärmedämmung, Akustik, Feuchtigkeitsschutz) | F23: Sa, 17. Jan. | G23: 12:00-16:00 | H23: 4 | I23: Lehrer (BS) 2 | J23: Frontalunterricht | K23: Berufsschule | L23: Klassenzimmer | M23: Keine Ausrüstung erforderlich | R23: Lehrer (BS) 2
F24: Fr, 23. Jan. | G24: 16:00-19:00 | H24: 3 | I24: Lehrer (BS) 1 | J24: Frontalunterricht | K24: Berufsschule | L24: Klassenzimmer | M24: Keine Ausrüstung erforderlich
F25: Sa, 24. Jan. | G25: 08:00-11:00 | H25: 3 | I25: Ausbilder 1 | J25: Frontalunterricht | K25: Unternehmen | L25: Baustelle | M25: Keine Ausrüstung erforderlich | R25: Unternehmen/Berufsschule
B26: 1 | C26: 6 | D26: =Zeitplanung!C30 -> Sicherheitsvorschriften auf Baustellen | E26: Normen, Vorschriften und Gesetze für die Baustelle mit Schwerpunkt auf der Sicherheit auf der Baustelle (potenzielle Gefahren, sicherer Umgang mit Maschinen, Brandschutz, Verhalten im Notfall) | F26: Sa, 24. Jan. | G26: 11:00-18:00 | H26: 7 | I26: Ausbilder 1 | J26: Praxisorientierter Unterricht | K26: Unternehmen | L26: Baustelle | M26: Keine Ausrüstung erforderlich | N26: Hier geht es hauptsächlich um Gesetze und Vorschriften; um es interessanter zu gestalten, wird der Stoff so praxisnah wie möglich vermittelt
B27: 1 | C27: 7 | D27: =Zeitplanung!C31 -> Arbeits- und Prozessplanung | E27: Grundlagen der Beschaffung, Arbeits- und Prozessplanung + Projekt für Auszubildende zur Teamarbeit | F27: Fr, 30. Jan | G27: 14:00-18:00 | H27: 4 | I27: Ausbilder 1 | J27: Frontalunterricht | K27: Unternehmen | L27: Klassenzimmer | M27: Keine Ausrüstung erforderlich | R27: Unternehmen
F28: Sa, 31. Jan. | G28: 08:00-12:00 | H28: 4 | I28: Ausbilder 2 | J28: Projekt | K28: Unternehmen | L28: Klassenzimmer | M28: PCs oder Laptops für Auszubildende | R28: Berufsschule
F29: Fr, 6. Feb. | G29: 14:00-18:00 | H29: 4 | I29: Ausbilder 2 | J29: Projekt | K29: Unternehmen | L29: Klassenzimmer | M29: PCs oder Laptops für Auszubildende
B30: 1 | C30: 8 | D30: =Zeitplanung!C34 -> Logistik | E30: Zusammenhänge zwischen Logistik, Arbeitsmedizin, Sicherheit und anderen Gewerken | F30: Sa, 31. Jan. | G30: 12:00-18:00 | H30: 6 | I30: Ausbilder 2 | J30: Frontalunterricht | K30: Unternehmen | L30: Produktionshalle 1 | M30: No equipment needed | R30: Raum
B31: 1 | C31: 9 | D31: =Zeitplanung!C35 -> Wirtschaftliches Denken und Handeln | E31: Wirtschaftliche Kompetenzen wie Zahlungsabwicklung, Bankgeschäfte, fundierte finanzielle Entscheidungen, Steuern, Spar- und Finanzierungsformen sowie Wohnungswesen | F31: Sa, 7. Feb. | G31: 08:00-18:00 | H31: 10 | I31: Lehrer (BS) 1 | J31: Frontalunterricht | K31: Berufsschule | L31: Klassenzimmer | M31: Keine Ausrüstung erforderlich
F32: Fr, 13. Feb. | G32: 13:00-19:00 | H32: 6 | I32: Lehrer (BS) 1 | J32: Frontalunterricht | K32: Berufsschule | L32: Klassenzimmer | M32: Keine Ausrüstung erforderlich | R32: Klassenzimmer
F33: Sa, 14. Feb. | G33: 08:00-18:00 | H33: 10 | I33: Lehrer (BS) 1 | J33: Frontalunterricht | K33: Berufsschule | L33: Klassenzimmer | M33: Keine Ausrüstung erforderlich | R33: Produktionshalle 1
B34: 1 | C34: 10 | D34: =Zeitplanung!C38 -> Dokumente und Verträge | E34: Verwaltung von Verträgen und anderen Dokumenten, richtige Reaktion auf Vertragsunregelmäßigkeiten, Durchführung von Kosten-Nutzen-Vergleichen und Abschluss von Versicherungsverträgen | F34: Fr, 20. Feb. | G34: 13:00-19:00 | H34: 6 | I34: Lehrer (BS) 1 | J34: Frontalunterricht | K34: Berufsschule | L34: Klassenzimmer | M34: Keine Ausrüstung erforderlich | R34: Produktionshalle 2
F35: Sa, 21. Feb. | G35: 08:00-13:00 | H35: 5 | I35: Lehrer (BS) 1 | J35: Frontalunterricht | K35: Berufsschule | L35: Klassenzimmer | M35: Keine Ausrüstung erforderlich | R35: Trainingswerkstätte
F36: Sa, 28. Feb. | G36: 08:00-13:00 | H36: 5 | I36: Lehrer (BS) 1 | J36: Frontalunterricht | K36: Berufsschule | L36: Klassenzimmer | M36: Keine Ausrüstung erforderlich | R36: Trainingsbaustelle
B37: 1 | C37: 11 | D37: =Zeitplanung!C41 -> Unternehmerisches Denken und Handeln | E37: Gründung und Führung eines Unternehmens sowie alle relevanten Schritte einschließlich Buchhaltung, Jahresabschlüsse, Kalkulationen, Steuern, … | F37: Sa, 21. Feb. | G37: 13:00-18:00 | H37: 5 | I37: Lehrer (BS) 1 | J37: Frontalunterricht | K37: Berufsschule | L37: Klassenzimmer | M37: Keine Ausrüstung erforderlich | R37: Baustelle
F38: Fr, 27. Feb. | G38: 13:00-19:00 | H38: 6 | I38: Lehrer (BS) 1 | J38: Frontalunterricht | K38: Berufsschule | L38: Klassenzimmer | M38: Keine Ausrüstung erforderlich | R38: Metallwerkstätte
F39: Sa, 28. Feb. | G39: 13:00-18:00 | H39: 5 | I39: Lehrer (BS) 1 | J39: Projekt | K39: Berufsschule | L39: Klassenzimmer | M39: PCs oder Laptops für Auszubildende | N39: Die Auszubildenden erhalten die Aufgabe, ein Unternehmen zu gründen, und müssen herausfinden, was dafür erforderlich ist, eine Bilanz erstellen usw.
